BEGIN:VCALENDAR
VERSION:2.0
PRODID:-//wp-events-plugin.com//7.2.3.1//EN
TZID:America/Detroit
X-WR-TIMEZONE:America/Detroit
BEGIN:VEVENT
UID:34819@arabamerica.com
DTSTART;TZID=America/New_York:20250808T193000
DTEND;TZID=America/New_York:20250808T211500
DTSTAMP:20250729T021659Z
URL:https://www.arabamerica.com/events/8-8-movie-night-dinner-reservation-
 theeb/
SUMMARY:8/8 – Movie Night Dinner Reservation (Theeb)
DESCRIPTION:ATLANTA\, GA\n$15.00\n\n\nMovie Night Dinner – $15\nFriday\, 
 August 8\n7 pm – Dinner ($15)\n7:30 pm – Movie (Free) \n\nMovie is fr
 ee &amp\; open to the public.\n\nDinner (optional) – $15\n\nMENU: Mansaf
  (traditional Jordanian dish made of lamb\, cooked in a sauce of fermented
  dried yogurt)\, fasoulia (vegetarian green beans in a rich\, savory tomat
 o sauce)\, rice\, salad\, and dessert\n\nGet Tickets Here\n\n\n\n\n\n\n\n\
 n\n\n
ATTACH;FMTTYPE=image/jpeg:https://www.arabamerica.com/wp-content/uploads/2
 025/07/Screenshot-2025-07-28-at-10.16.26-PM.png
CATEGORIES:Arab,Arab Ameircan Event,Arab American,Community,culture,Food
LOCATION:Alif Institute\, 3288 Marjan Dr.\,\, Atlanta\, 30340\, United Stat
 es
GEO:33.884774;-84.26457399999998
X-APPLE-STRUCTURED-LOCATION;VALUE=URI;X-ADDRESS=3288 Marjan Dr.\,\, Atlanta
 \, 30340\, United States;X-APPLE-RADIUS=100;X-TITLE=Alif Institute:geo:33.
 884774,-84.26457399999998
END:VEVENT
BEGIN:VTIMEZONE
TZID:America/New_York
X-LIC-LOCATION:America/New_York
BEGIN:DAYLIGHT
DTSTART:20250309T030000
TZOFFSETFROM:-0500
TZOFFSETTO:-0400
TZNAME:EDT
END:DAYLIGHT
END:VTIMEZONE
END:VCALENDAR