BEGIN:VCALENDAR
VERSION:2.0
PRODID:-//wp-events-plugin.com//7.2.3.1//EN
TZID:America/Detroit
X-WR-TIMEZONE:America/Detroit
BEGIN:VEVENT
UID:33185@arabamerica.com
DTSTART;TZID=America/Detroit:20240620T180000
DTEND;TZID=America/Detroit:20240808T180000
DTSTAMP:20240709T110937Z
URL:https://www.arabamerica.com/events/8-week-course-a-drop-in-the-ocean-b
 elief-and-worship-through-the-quran/
SUMMARY:8- Week Course- A Drop In The Ocean: Belief and Worship through the
  Qu’ran.
DESCRIPTION:CHICAGO\, IL\n\n“This is a blessed book that We have revealed
 . So follow it and be mindful of God that you may receive mercy.” (6:155
 )\n\nA Drop in the Ocean provides deep dives on specific chapters and impo
 rtant themes of the Qur’an. Our latest class in this series will introdu
 ce students to the basics of theology and worship as described by God in H
 is final revelation. Each class will select verses pertaining to topics su
 ch as God’s Oneness\, His angels and prophets\, as well as instructions 
 on prayer\, fasting\, and charity.\n\nJoin Professor Omer Mozaffar for an 
 8-Week course beginning Thursday\, June 20th at 6 PM CT. Professor Mozaffa
 r is the Muslim chaplain and a lecturer at Loyola University\, Chicago. He
  is trained in both traditional and academic Islamic Studies\, and has bee
 n teaching on the Qur’an\, Hadith\, Islamic Law\, and Prophetic biograph
 y across the Chicagoland area for nearly thirty years.\n\nAll classes will
  be held in-person at Taleef Chicago\, every Thursday at 6 PM CT from June
  20th to August 8th. Early Bird Admission $55\, General Admission $95.\n\n
 Register\, space is limited.\n\nScholarships/Waivers available\, please em
 ail info@taleefcollective.org
ATTACH;FMTTYPE=image/jpeg:https://www.arabamerica.com/wp-content/uploads/2
 024/07/Screenshot-2024-07-09-040523.png
LOCATION:Ta'leef Collective Chicago\, 1945 S. Halsted Street\, Chicago\, IL
 \, 60608\, United States
GEO:41.85544;-87.64627
X-APPLE-STRUCTURED-LOCATION;VALUE=URI;X-ADDRESS=1945 S. Halsted Street\, Ch
 icago\, IL\, 60608\, United States;X-APPLE-RADIUS=100;X-TITLE=Ta'leef Coll
 ective Chicago:geo:41.85544,-87.64627
END:VEVENT
BEGIN:VTIMEZONE
TZID:America/Detroit
X-LIC-LOCATION:America/Detroit
BEGIN:DAYLIGHT
DTSTART:20240310T030000
TZOFFSETFROM:-0500
TZOFFSETTO:-0400
TZNAME:EDT
END:DAYLIGHT
END:VTIMEZONE
END:VCALENDAR