BEGIN:VCALENDAR
VERSION:2.0
PRODID:-//wp-events-plugin.com//7.2.3.1//EN
TZID:America/Detroit
X-WR-TIMEZONE:America/Detroit
BEGIN:VEVENT
UID:35596@arabamerica.com
DTSTART;TZID=America/Detroit:20260310T180000
DTEND;TZID=America/Detroit:20260310T210000
DTSTAMP:20251217T030049Z
URL:https://www.arabamerica.com/events/8th-annual-st-petersburg-iftar-dinn
 er-brought-to-you-by-tbama/
SUMMARY:8th Annual St Petersburg IFTAR Dinner\, brought to you by TBAMA
DESCRIPTION:Join us in unity\, sharing a meal of peace\, love\, and compass
 ion. Let's break bread and embrace the bonds that connect us all.
ATTACH;FMTTYPE=image/jpeg:https://www.arabamerica.com/wp-content/uploads/2
 025/12/https___cdn.evbuc_.com_images_1172311641_16161484987_1_original.jpg
CATEGORIES:Faith,Florida,Florida events,free,Iftar,Iftar
 Dinner,Ramadan,Ramadan Banquet,Ramadan Iftar
LOCATION:The Coliseum\, 535 4th Avenue North\, St. Petersburg\, FL\, 33701\
 , United States
GEO:27.776926;-82.641172
X-APPLE-STRUCTURED-LOCATION;VALUE=URI;X-ADDRESS=535 4th Avenue North\, St. 
 Petersburg\, FL\, 33701\, United States;X-APPLE-RADIUS=100;X-TITLE=The Col
 iseum:geo:27.776926,-82.641172
END:VEVENT
BEGIN:VTIMEZONE
TZID:America/Detroit
X-LIC-LOCATION:America/Detroit
BEGIN:DAYLIGHT
DTSTART:20260308T030000
TZOFFSETFROM:-0500
TZOFFSETTO:-0400
TZNAME:EDT
END:DAYLIGHT
END:VTIMEZONE
END:VCALENDAR