BEGIN:VCALENDAR
VERSION:2.0
PRODID:-//wp-events-plugin.com//7.2.3.1//EN
TZID:America/Detroit
X-WR-TIMEZONE:America/Detroit
BEGIN:VEVENT
UID:35136@arabamerica.com
DTSTART;TZID=America/New_York:20250926T190000
DTEND;TZID=America/New_York:20250926T210000
DTSTAMP:20250917T024739Z
URL:https://www.arabamerica.com/events/a-birthday-reading-fundraiser-raffl
 e-for-gaza/
SUMMARY:A birthday reading fundraiser & raffle for Gaza
DESCRIPTION:NEW YORK\, NY\n\n\n\nJoin us on Friday\, September 26\, from 7-
 9pm in-person for a birthday reading\, fundraiser &amp\; raffle in support
  of Gaza Mutual Aid Solidarity &amp\; South Brooklyn Sanctuary. Suggested 
 donation of $10 to attend\, but no one turned away for lack of funds\n\nFe
 aturing readings by:\n\nCathy Linh Che\nJemimah Wei\nJenevieve Ting\nJenny
  Xie\nVt Hung\nYasmin Adele Majeed\n\nFeaturing raffle items by:\n\n&#x1f3
 a8\; Jia Sung\n&#x1fa75\; Jeffery Sun Young Park\n&#x1f9a2\; hotbirdbath\n
 &#x1f5bc\;&#xfe0f\; Mary Inhea Kang\n&#x2702\;&#xfe0f\; q\n\nEnter the raf
 fle by 9/26! Each raffle entry is $5 with unlimited entries Please include
  the name of your desired item in your raffle entry on Venmo (@tingrolls) 
 or PayPal (@tingroll). Shipping only available within the US for select ra
 ffle items\, and tattoo &amp\; custom pants only available in NYC. The win
 ner of each item will be contacted shortly after the fundraiser has ended.
 \n\nGaza Mutual Aid Solidarity is a direct mutual aid organization support
 ing families with food\, clean water &amp\; survival needs in Gaza\, and S
 outh Brooklyn Sanctuary is a grassroots nonprofit that trains volunteers t
 o support immigrants without attorneys.\n\nPlease send all donations to Ve
 nmo (@tingrolls)\, PayPal (@tingroll)\, or if you prefer\, directly to @ga
 zamutualaidsolidarity &amp\; @southbrooklynsanctuary\n\n__\n\nCOMMUNITY CA
 RE &amp\; ACCESSIBILITY\n\nAt AAWW\, the safety and comfort of our communi
 ty is our top priority. We invite you to practice intentionality and care 
 in your behavior and language when engaging with our programs and with eac
 h other. Violence of any kind\, including but not limited to racism\, sexi
 sm\, homophobia\, transphobia\, ableism\, ageism\, class or casteism\, big
 otry or bias toward religion or faith\, or any action or assault against m
 arginalized identities\, is not tolerated. Those who bring harm to our com
 munity in person or online are not welcome\, and will be asked to exit the
  space.\n\nThe event will be live streamed on Zoom with auto captioning fo
 r those who cannot join us in person. For those joining us in person\, we 
 are located on the 18 West 21st Street\, Suite 900\, there is an elevator 
 that will take you directly to our office. We highly encourage all in pers
 on guests to take a COVID test at home prior to the event. If you have had
  COVID or have had known contact with someone who has tested positive for 
 COVID in the 10 days prior\, we ask you tune in for the live stream instea
 d.\n\n\n\n\n\n\n\n\n\n\n\n\n\n\n\n\n\n\n\n\n\n\n\n\n\n\n\n\n\n\n\n\n\n\n\n
 \n\n
LOCATION:18 W 21st St suite 900\, 18 West 21st Street #suite 900\, New York
  \, New York \, 10010\, United States
GEO:40.740601;-73.991911
X-APPLE-STRUCTURED-LOCATION;VALUE=URI;X-ADDRESS=18 West 21st Street #suite 
 900\, New York \, New York \, 10010\, United States;X-APPLE-RADIUS=100;X-T
 ITLE=18 W 21st St suite 900:geo:40.740601,-73.991911
END:VEVENT
BEGIN:VTIMEZONE
TZID:America/New_York
X-LIC-LOCATION:America/New_York
BEGIN:DAYLIGHT
DTSTART:20250309T030000
TZOFFSETFROM:-0500
TZOFFSETTO:-0400
TZNAME:EDT
END:DAYLIGHT
END:VTIMEZONE
END:VCALENDAR