BEGIN:VCALENDAR
VERSION:2.0
PRODID:-//wp-events-plugin.com//7.2.3.1//EN
TZID:America/Detroit
X-WR-TIMEZONE:America/Detroit
BEGIN:VEVENT
UID:35020@arabamerica.com
DTSTART;TZID=America/Detroit:20251011T184500
DTEND;TZID=America/Detroit:20251011T210000
DTSTAMP:20250820T170125Z
URL:https://www.arabamerica.com/events/a-century-of-arabic-music_-an-eveni
 ng-with-torath-2/
SUMMARY:A Century of Arabic Music_ An Evening with Torath
DESCRIPTION:\n\n\n\n\n\n\n\n\nFree Parking\, English translation of Lyrics 
 and Synopses. From Morocco to Cairo to Baghdad\, Beirut to Aleppo\, travel
  through 100 years of beloved Arabic classics &#x1f319\;&#x2728\;Step into
  a world of timeless beauty and soul-stirring melodies! A Century of Arabi
 c Music brings together an extraordinary ensemble of the finest Arabic mus
 ic musicians in the United States\, representing traditions from across th
 e Arab world.\n\nFrom beloved classics to iconic masterpieces\, this one-o
 f-a-kind performance will take you on a journey through the golden eras of
  Arabic music. Let the rich sounds\, poetic lyrics\, and captivating rhyth
 ms transport you to a place where music unites hearts and memories.\n\n&#x
 2728\; An evening to remember. A heritage to celebrate.\n\n\n\n\n\n\n\n\n\
 n\n\n\n\n\n\n\n\n\n\n\n\n\n\n\n\n\n\n\n\n\n\n\n\n\n\n\n\n\n\n\n\n\n\n\n\n\
 n\n\n\n\n\n\n\n\n\n\n\n\n\n\n\n\n\n\n\n\n\n\n\n\n\n\n\n\n\n\n\n\n\n\n\n
ATTACH;FMTTYPE=image/jpeg:https://www.arabamerica.com/wp-content/uploads/2
 025/08/Screenshot-2025-08-20-at-12.58.31-PM.png
LOCATION:1301 N Stafford St\, 1301 N Stafford St\, Arlington\, VA\, 22201\,
  United States
GEO:38.887842;-77.11006
X-APPLE-STRUCTURED-LOCATION;VALUE=URI;X-ADDRESS=1301 N Stafford St\, Arling
 ton\, VA\, 22201\, United States;X-APPLE-RADIUS=100;X-TITLE=1301 N Staffor
 d St:geo:38.887842,-77.11006
END:VEVENT
BEGIN:VTIMEZONE
TZID:America/Detroit
X-LIC-LOCATION:America/Detroit
BEGIN:DAYLIGHT
DTSTART:20250309T030000
TZOFFSETFROM:-0500
TZOFFSETTO:-0400
TZNAME:EDT
END:DAYLIGHT
END:VTIMEZONE
END:VCALENDAR