BEGIN:VCALENDAR
VERSION:2.0
PRODID:-//wp-events-plugin.com//7.2.3.1//EN
TZID:America/Detroit
X-WR-TIMEZONE:America/Detroit
BEGIN:VEVENT
UID:35887@arabamerica.com
DTSTART;TZID=America/New_York:20260328T200000
DTEND;TZID=America/New_York:20260328T220000
DTSTAMP:20260217T222550Z
URL:https://www.arabamerica.com/events/a-concert-of-solidarity-ireland-pal
 estine-a-fundraiser-for-concern/
SUMMARY:A Concert of Solidarity: Ireland & Palestine\, A Fundraiser for Con
 cern
DESCRIPTION:\n\n\nQueens\, New York\n\n&nbsp\;\n\nThis fundraiser seeks to 
 fight the hunger crisis in Gaza. The event features an Irish-Palestinian F
 usion Concert.\n\n\n\n\n\n\nA Concert of Solidarity: Ireland &amp\; Palest
 ine\, A Fundraiser for Concern Worldwide US - Gaza Crisis Appeal. This fun
 draiser seeks to fight the hunger crisis in Gaza. The event features an Ir
 ish-Palestinian Fusion Concert withSebastian McLaughlin\, Eileen Goodman\,
  Nezih Antakli\, Sami Abu Shumays\, John Murchison\, Colin Harte\, McManus
  dancers\, Poetry Reading- Andrew Alger.\n\n&nbsp\;\n\nNo Refunds\n\n\n
ATTACH;FMTTYPE=image/jpeg:https://www.arabamerica.com/wp-content/uploads/2
 026/02/image-14-2.webp
CATEGORIES:#arabic,Arab American,Community,culture,Food,Music/Folk/World
LOCATION:The Wild Goose\, 54-20 Roosevelt Avenue\, Queens\, new york\, Unit
 ed States
GEO:40.744772;-73.909786
X-APPLE-STRUCTURED-LOCATION;VALUE=URI;X-ADDRESS=54-20 Roosevelt Avenue\, Qu
 eens\, new york\, United States;X-APPLE-RADIUS=100;X-TITLE=The Wild Goose:
 geo:40.744772,-73.909786
END:VEVENT
BEGIN:VTIMEZONE
TZID:America/New_York
X-LIC-LOCATION:America/New_York
BEGIN:DAYLIGHT
DTSTART:20260308T030000
TZOFFSETFROM:-0500
TZOFFSETTO:-0400
TZNAME:EDT
END:DAYLIGHT
END:VTIMEZONE
END:VCALENDAR