BEGIN:VCALENDAR
VERSION:2.0
PRODID:-//wp-events-plugin.com//7.2.3.1//EN
TZID:America/Detroit
X-WR-TIMEZONE:America/Detroit
BEGIN:VEVENT
UID:35130@arabamerica.com
DTSTART;TZID=America/Los_Angeles:20250925T183000
DTEND;TZID=America/Los_Angeles:20250928T183000
DTSTAMP:20250917T021011Z
URL:https://www.arabamerica.com/events/a-concise-history-of-the-middle-eas
 t-ch-5/
SUMMARY:A Concise History of the Middle East\, Ch. 5
DESCRIPTION:BOULDER\, CO\n\nThe Untold Stories of Gaza is more than a perfo
 rmance — it is a fundraiser for urgent humanitarian aid and a call to wi
 tness. Through storytelling\, music\, dance\, and visual imagery\, we hono
 r the lived experiences of Palestinian families\, told in their own words 
 and interpreted by a diverse cast of local performers.\n\n&nbsp\;\n\nIn Ga
 za\, families face hunger\, displacement\, and unimaginable loss. Our Sons
  and Daughters of Hope campaign provides urgent aid such as food\, baby fo
 rmula\, and medical essentials to youth and children in Gaza — ensuring 
 survival while preserving dignity.\n\n&nbsp\;\n\nBy attending\, donating\,
  or spreading the word\, you help bring life-saving aid directly to those 
 who need it most.\n\n&nbsp\;\n\nThe performance will embrace a raw\, docum
 entary style. Many of the stories were received by the director via WhatsA
 pp messages and voice notes from friends in Gaza during the war. Performer
 s will read them directly from devices\, preserving the intimacy\, urgency
 \, and truth of how these words were first shared.\n\n&nbsp\;\n\nThe eveni
 ng will also feature a selection of authentic Middle Eastern sweets and sa
 vory bites — such as baklava\, stuffed grape leaves\, and other traditio
 nal favorites — available for purchase\, along with a diverse and dynami
 c silent auction and opportunities for guests to directly sponsor individu
 al children and families in Gaza\, creating a personal and lasting impact.
 \n\n&nbsp\;\n\nAll proceeds will go directly to Earth Angels Act’s Sons 
 and Daughters of Hope campaign\, which provides urgent aid such as food\, 
 baby formula\, and medical essentials to youth and children in Gaza.\n\n&n
 bsp\;\n\nWhy It Matters\n\nIn Gaza\, families face hunger\, displacement\,
  and unimaginable loss. Our Sons and Daughters of Hope campaign provides u
 rgent aid such as food\, baby formula\, and medical essentials to youth an
 d children in Gaza — ensuring survival while preserving dignity.\n\n&nbs
 p\;\n\nBy attending\, donating\, or spreading the word\, you help bring li
 fe-saving aid directly to those who need it most.\n\n&nbsp\;\n\n“When we
  tell these stories\, we keep the truth alive. We remind the world that be
 hind every headline is a human soul who matters.” — Michele Claire\, F
 ounder of Earth Angels Act
ATTACH;FMTTYPE=image/jpeg:https://www.arabamerica.com/wp-content/uploads/2
 025/09/Screen-Shot-2025-09-16-at-10.09.20-PM.png
LOCATION:Theatre O\, 5311 Western Avenue #STE 120\, Boulder\, CO\, 80301\, 
 United States
GEO:40.017985;-105.22941
X-APPLE-STRUCTURED-LOCATION;VALUE=URI;X-ADDRESS=5311 Western Avenue #STE 12
 0\, Boulder\, CO\, 80301\, United States;X-APPLE-RADIUS=100;X-TITLE=Theatr
 e O:geo:40.017985,-105.22941
END:VEVENT
BEGIN:VTIMEZONE
TZID:America/Los_Angeles
X-LIC-LOCATION:America/Los_Angeles
BEGIN:DAYLIGHT
DTSTART:20250309T030000
TZOFFSETFROM:-0800
TZOFFSETTO:-0700
TZNAME:PDT
END:DAYLIGHT
END:VTIMEZONE
END:VCALENDAR