BEGIN:VCALENDAR
VERSION:2.0
PRODID:-//wp-events-plugin.com//7.2.3.1//EN
TZID:America/Detroit
X-WR-TIMEZONE:America/Detroit
BEGIN:VEVENT
UID:34977@arabamerica.com
DTSTART;TZID=America/Detroit:20250814T180000
DTEND;TZID=America/Detroit:20250814T200000
DTSTAMP:20250812T190618Z
URL:https://www.arabamerica.com/events/a-conversation-with-chris-smalls/
SUMMARY:A Conversation with Chris Smalls
DESCRIPTION:WASHINGTON\, DC\n\n\n\n\nLabor and Peace Activist Chris Smalls 
 joins us on the Busboys and Poets stage. He has recently returned from joi
 ning the Gaza Freedom Flotilla to break the siege on Gaza and the Israeli 
 imposed starvation of the over 2 million Palestinians living there. The Is
 raeli military intercepted the Handala\, the boat carrying medicine\, baby
  formula and other necessities and detained its 21 crew members\, includin
 g Smalls. Being the only Black crew member\, he was singled out and attack
 ed physically due to the color of his skin.\n\nSmalls calls Israel’s ass
 ault and starvation of Gaza a “working-class issue\,” and will speak a
 bout the intersectionality of the war on Gaza with the global struggle for
  justice and freedom.\n\nHe will be joined by social justice activist and 
 co-founder of A.C.T.O.R. (A Continuing Talk on Race)\, Pamela Pinnock. FRE
 E AND OPEN TO ALL\n\n\n\n\n\n[embed]https://youtu.be/RIjWHit8Sfk[/embed]\n
 \n
ATTACH;FMTTYPE=image/jpeg:https://www.arabamerica.com/wp-content/uploads/2
 025/08/hris.jpeg
LOCATION:Busboys and Poets\, 2021 14th Street Northwest\, Washington\, DC\,
  20009\, United States
GEO:38.917912;-77.031553
X-APPLE-STRUCTURED-LOCATION;VALUE=URI;X-ADDRESS=2021 14th Street Northwest\
 , Washington\, DC\, 20009\, United States;X-APPLE-RADIUS=100;X-TITLE=Busbo
 ys and Poets:geo:38.917912,-77.031553
END:VEVENT
BEGIN:VTIMEZONE
TZID:America/Detroit
X-LIC-LOCATION:America/Detroit
BEGIN:DAYLIGHT
DTSTART:20250309T030000
TZOFFSETFROM:-0500
TZOFFSETTO:-0400
TZNAME:EDT
END:DAYLIGHT
END:VTIMEZONE
END:VCALENDAR