BEGIN:VCALENDAR
VERSION:2.0
PRODID:-//wp-events-plugin.com//7.2.3.1//EN
TZID:America/Detroit
X-WR-TIMEZONE:America/Detroit
BEGIN:VEVENT
UID:35878@arabamerica.com
DTSTART;TZID=America/Detroit:20260307T120000
DTEND;TZID=America/Detroit:20260307T140000
DTSTAMP:20260217T001323Z
URL:https://www.arabamerica.com/events/a-grown-up-me-traditional-maamoul-c
 ookie-making-experience-2/
SUMMARY:A Grown-Up & Me Traditional Maamoul Cookie Making Experience
DESCRIPTION:Join us for a fun day of making traditional Maamoul cookies wit
 h your little ones at our Grown-Up &amp\; Me event!\n\nWelcome to the Grow
 n Up &amp\; Me Traditional Maamoul Cookie Making Experience!\n\nStep into 
 the heart of Palestinian culture with our Grown Up &amp\; Me Maamoul-Makin
 g Class: Each ticket includes admission for one parent and one child.\n\nC
 elebrate the joy of Eid and the beauty of Middle Eastern traditions with y
 our little one in this hands-on\, interactive Maamoul-Making Class. Design
 ed for one parent and one child\, this unique experience blends cultural c
 onnection\, creativity\, and family bonding.\n\nWhat We'll Do:\n\nMix the 
 Spices and Dates: Prepare the aromatic date filling\, infused with warm\, 
 traditional spices that make maamoul irresistible.\nShape the Cookies: Lea
 rn how to roll\, stuff\, and shape the soft\, flour-based dough using auth
 entic molds and tongs to craft intricate\, traditional designs.\nBake to P
 erfection: Follow guided steps to bake your cookies to golden perfection.\
 nGet in the Ramadan spirit and enjoy a story time and Ramadan craft with S
 itti.\nAbout Maamoul:\n\nMaamoul cookies are much more than a dessert\; th
 ey are a symbol of celebration\, history\, and heritage. These beloved tre
 ats hold deep significance in Palestinian culture\, where they are prepare
 d during holidays such as Eid al-Fitr and Eid al-Adha\, as well as Easter 
 and Christmas.\n\nThe art of making maamoul is often a family affair\, pas
 sed down through generations. For me\, some of my fondest childhood memori
 es involve making maamoul with my mom and grandmother\, where every step\,
  from mixing the spices to pressing the dough into molds\, was an act of c
 onnection and love.\n\nNow\, I’m thrilled to share this tradition with y
 ou and your child\, offering a chance to create not just delicious cookies
  but also cherished memories together.\n\nWhy Choose This Class?\n\nOur fl
 our-based dough is tender\, easy to work with\, and perfect for beginners 
 and seasoned bakers alike. This experience is not just about baking\, it's
  about bonding\, learning\, and celebrating a tradition that has been cher
 ished for centuries.\n\nReserve your spot today and join us for an unforge
 ttable experience where you and your child will create something truly spe
 cial together.\n\nLet’s bake\, bond\, and celebrate!
ATTACH;FMTTYPE=image/jpeg:https://www.arabamerica.com/wp-content/uploads/2
 026/02/image-13-1.webp
LOCATION:646 Bay St\, 646 Bay St\, Staten Island\, NY\, 10304\, United Stat
 es
GEO:40.62619;-74.07547
X-APPLE-STRUCTURED-LOCATION;VALUE=URI;X-ADDRESS=646 Bay St\, Staten Island\
 , NY\, 10304\, United States;X-APPLE-RADIUS=100;X-TITLE=646 Bay St:geo:40.
 62619,-74.07547
END:VEVENT
BEGIN:VTIMEZONE
TZID:America/Detroit
X-LIC-LOCATION:America/Detroit
BEGIN:STANDARD
DTSTART:20251102T010000
TZOFFSETFROM:-0400
TZOFFSETTO:-0500
TZNAME:EST
END:STANDARD
END:VTIMEZONE
END:VCALENDAR