BEGIN:VCALENDAR
VERSION:2.0
PRODID:-//wp-events-plugin.com//7.2.3.1//EN
TZID:America/Detroit
X-WR-TIMEZONE:America/Detroit
BEGIN:VEVENT
UID:36110@arabamerica.com
DTSTART;TZID=America/Detroit:20260411T133000
DTEND;TZID=America/Detroit:20260411T150000
DTSTAMP:20260331T183642Z
URL:https://www.arabamerica.com/events/a-history-of-the-muslim-communities
 -of-detroit/
SUMMARY:A History of the Muslim Communities of Detroit
DESCRIPTION:Join us as we uncover the rich tapestry of Detroit's Muslim com
 munities in a journey through time and culture.\n\nJoin us at Main | Detro
 it Public Library on April 11\, 2026 at 1:30 PM (Eastern Time) to explore 
 the rich history of Muslim communities in Detroit. Dr. Sally F. Howell\, a
  Professor of Arab American Studies at the University of Michigan-Dearborn
 \, will highlight and discuss her Old Islam in Detroit book and the storie
 s\, traditions\, and contributions of Muslim and Arab communities in metro
  Detroit. Get ready for an engaging and insightful journey through time! D
 on't miss out on this opportunity to learn and connect with others who sha
 re an interest in Detroit's diverse heritage. See you there!
ATTACH;FMTTYPE=image/jpeg:https://www.arabamerica.com/wp-content/uploads/2
 026/03/image-45-1.webp
LOCATION:Main | Detroit Public Library\, 5201 Woodward Avenue\, Detroit\, M
 I\, 48202\, United States
GEO:42.358543;-83.066777
X-APPLE-STRUCTURED-LOCATION;VALUE=URI;X-ADDRESS=5201 Woodward Avenue\, Detr
 oit\, MI\, 48202\, United States;X-APPLE-RADIUS=100;X-TITLE=Main | Detroit
  Public Library:geo:42.358543,-83.066777
END:VEVENT
BEGIN:VTIMEZONE
TZID:America/Detroit
X-LIC-LOCATION:America/Detroit
BEGIN:DAYLIGHT
DTSTART:20260308T030000
TZOFFSETFROM:-0500
TZOFFSETTO:-0400
TZNAME:EDT
END:DAYLIGHT
END:VTIMEZONE
END:VCALENDAR