BEGIN:VCALENDAR
VERSION:2.0
PRODID:-//wp-events-plugin.com//7.2.3.1//EN
TZID:America/Detroit
X-WR-TIMEZONE:America/Detroit
BEGIN:VEVENT
UID:35766@arabamerica.com
DTSTART;TZID=America/Los_Angeles:20260215T140000
DTEND;TZID=America/Los_Angeles:20260215T183000
DTSTAMP:20260127T175949Z
URL:https://www.arabamerica.com/events/a-love-letter-to-palestine/
SUMMARY:A Love Letter to Palestine
DESCRIPTION:\n\n\nCommunity\, care\, and collective action for mothers and 
 babies in Gaza\n\n\n\n\n\n\nA Love Letter to Palestine\n\nSupporting mothe
 rs\, saving lives\n\nCome gather in community for an afternoon and evening
  rooted in humanity.\n\n2:00 PM - 4:00 PM Letter writing to mothers in Ga
 za • Bake sale\n\n4:30 PM - 6:30 PM Live Palestinian poetry • Live mu
 sic • Handmade items • Night-long raffle • Tatreez (traditional Pale
 stinian embroidery)\n\nFeaturing guest speaker Sandra Adler Killen (Emerg
 ency &amp\; Pediatric nurse and lactation consultant) recently returned f
 rom her fourth medical mission to Gaza\, where she spent a month working 
 with newborns and mothers facing unimaginable conditions.\n\nSandra remai
 ns in daily contact with her colleagues in Gaza and will share firsthand 
 accounts of what is happening on the ground and how we can help.\n\nEvery 
 dollar raised supports the Gaza Infant Nutrition Alliance (GINA) – pr
 oviding direct aid for mothers and babies on the ground.\n\nThis is a spac
 e to come together\, hold our collective grief\, and explore how we can m
 eaningfully show up in response to the ongoing genocide\n\nWhere: Fairfa
 x Community Church 2398 Sir Francis Drake Blvd Fairfax\, CA 94930\n\nDrop 
 in for an hour or stay for the whole afternoon — everyone is welcome.\n\
 nWe need help making this event a big success—and we’d love your suppo
 rt! You can help by:\n\n• Donating an item for the raffle\n• Baking so
 mething delicious for the bake sale\n• Helping with set-up\n• Helping 
 with take-down\n• Spreading the word in your community\n\nTo volunteer\,
  please fill out this form: https://forms.gle/WKiNf7PH71dZHqAu9\n\n\n\n\n
 \n\n\n\n\n\n\n\n
ATTACH;FMTTYPE=image/jpeg:https://www.arabamerica.com/wp-content/uploads/2
 026/01/image-2-4.webp
LOCATION:Fairfax Community Church\, 2398 Sir Francis Drake Boulevard\, Fair
 fax\, CA\, 94930\, United States
GEO:37.995484;-122.595576
X-APPLE-STRUCTURED-LOCATION;VALUE=URI;X-ADDRESS=2398 Sir Francis Drake Boul
 evard\, Fairfax\, CA\, 94930\, United States;X-APPLE-RADIUS=100;X-TITLE=Fa
 irfax Community Church:geo:37.995484,-122.595576
END:VEVENT
BEGIN:VTIMEZONE
TZID:America/Los_Angeles
X-LIC-LOCATION:America/Los_Angeles
BEGIN:STANDARD
DTSTART:20251102T010000
TZOFFSETFROM:-0700
TZOFFSETTO:-0800
TZNAME:PST
END:STANDARD
END:VTIMEZONE
END:VCALENDAR