BEGIN:VCALENDAR
VERSION:2.0
PRODID:-//wp-events-plugin.com//7.2.3.1//EN
TZID:America/Detroit
X-WR-TIMEZONE:America/Detroit
BEGIN:VEVENT
UID:35602@arabamerica.com
DTSTART:20260120T223000Z
DTEND:20260121T010000Z
DTSTAMP:20251217T042853Z
URL:https://www.arabamerica.com/events/a-mediterranean-wine-and-dinner-pai
 ring/
SUMMARY:A Mediterranean Wine and Dinner Pairing
DESCRIPTION:\n\nNEWBURGH\, IN\nOverview\n\n\n\n\n\nJoin us at Marida Restau
 rant and indulge in a Mediterranean Dinner and Wine Pairing that will leav
 e you wanting more.\n\n\n\n\nJoin us on January 20 at Marida Restaurant
  for a warm escape from winter and a culinary journey to the Mediterrane
 an!\nEnjoy a five-course traditional Mediterranean dinner featuring Chic
 ken Orzo Soup\, Cheese Roll\, Hummus\, Ezme\, Baba Ghanoush\, Chicken and 
 Lamb Shish Kebabs\, and Baklava — each course expertly paired with deli
 cious wines.\n\n\n\n\n\n
ATTACH;FMTTYPE=image/jpeg:https://www.arabamerica.com/wp-content/uploads/2
 025/12/Screenshot-2025-12-16-at-11.22.56-PM.png
CATEGORIES:#arabic,Arab American,Community,culture,Food
LOCATION:Marida Mediterranean Restaurant\, 1 East Water Street\, Newburgh\,
  IN\, 47630\, United States
GEO:37.943724;-87.404853
X-APPLE-STRUCTURED-LOCATION;VALUE=URI;X-ADDRESS=1 East Water Street\, Newbu
 rgh\, IN\, 47630\, United States;X-APPLE-RADIUS=100;X-TITLE=Marida Mediter
 ranean Restaurant:geo:37.943724,-87.404853
END:VEVENT
END:VCALENDAR