BEGIN:VCALENDAR
VERSION:2.0
PRODID:-//wp-events-plugin.com//7.2.3.1//EN
TZID:America/Detroit
X-WR-TIMEZONE:America/Detroit
BEGIN:VEVENT
UID:34754@arabamerica.com
DTSTART;TZID=America/Detroit:20250718T190000
DTEND;TZID=America/Detroit:20250718T220000
DTSTAMP:20250709T041409Z
URL:https://www.arabamerica.com/events/a-night-for-palestine-11/
SUMMARY:A Night for Palestine
DESCRIPTION:LAS VEGAS\, NV\n\nA Night for Palestine\n\nJoin us for an inspi
 ring evening in Las Vegas for humanitarian relief in Palestine. Your suppo
 rt will help provide life-saving aid — including food\, clean water\, an
 d other essentials.\n\nTogether\, we can transform compassion into action 
 and provide vital support to those who need it most.\n\nAt Muslim Aid USA\
 , we have been steadfast in our commitment to Palestine. With our local pa
 rtners on the ground\, we continue to work tirelessly to bring aid directl
 y to those in need.\n\nKeynote Speaker: Sheikh Saad Tasleem\n\nSheikh Saa
 d Tasleem was born and raised in the United States of America. He attained
  a Bachelor’s with a major in Design and a minor in Psychology from the 
 University of Maryland (USA). He then went on to study at the Islamic Univ
 ersity of Madinah\, Saudi Arabia. There he dedicated himself to the study 
 of Islamic Sciences and attained a diploma in Arabic Language and a Bachel
 or’s in Islamic Law. Since graduating from the University of Madinah Sha
 ykh Saad has been extensively traveling all across the globe as an instruc
 tor for AlMaghrib Institute\, a public speaker and a lecturer. He has a wi
 de following amongst the youth all across the world as he has an uncanny a
 bility to connect with the young generation.\n\nMotivational Speaker: Azh
 ar Azeez\n\nCEO of Muslim Aid USA and former President of ISNA\, Azhar Aze
 ez brings years of experience in humanitarian leadership and advocacy.
ATTACH;FMTTYPE=image/jpeg:https://www.arabamerica.com/wp-content/uploads/2
 025/07/Screen-Shot-2025-07-09-at-12.11.47-AM.png
LOCATION:Hampton Inn Tropicana\, 4975 Dean Martin Drive\, Las Vegas\, Nevad
 a \, 89118\, United States
GEO:36.099501;-115.183169
X-APPLE-STRUCTURED-LOCATION;VALUE=URI;X-ADDRESS=4975 Dean Martin Drive\, La
 s Vegas\, Nevada \, 89118\, United States;X-APPLE-RADIUS=100;X-TITLE=Hampt
 on Inn Tropicana:geo:36.099501,-115.183169
END:VEVENT
BEGIN:VTIMEZONE
TZID:America/Detroit
X-LIC-LOCATION:America/Detroit
BEGIN:DAYLIGHT
DTSTART:20250309T030000
TZOFFSETFROM:-0500
TZOFFSETTO:-0400
TZNAME:EDT
END:DAYLIGHT
END:VTIMEZONE
END:VCALENDAR