BEGIN:VCALENDAR
VERSION:2.0
PRODID:-//wp-events-plugin.com//7.2.3.1//EN
TZID:America/Detroit
X-WR-TIMEZONE:America/Detroit
BEGIN:VEVENT
UID:34850@arabamerica.com
DTSTART;TZID=America/Detroit:20250807T193000
DTEND;TZID=America/Detroit:20250807T210000
DTSTAMP:20250730T165746Z
URL:https://www.arabamerica.com/events/a-night-in-morocco-wine-dinner-feat
 uring-chef-kelly-delaire/
SUMMARY:A Night in Morocco Wine Dinner featuring Chef Kelly DeLaire
DESCRIPTION:Join us for A Night in Morocco Wine Dinner featuring Chef Kelly
  DeLaire at Cellar 55! Indulge in a culinary journey through the flavors
  of Morocco as Chef Kelly DeLaire prepares a delectable menu inspired by t
 he vibrant spices and rich traditions of Moroccan cuisine. Each course wil
 l be expertly paired with a selection of fine wines to enhance the dining 
 experience. Don't miss this unique opportunity to savor the exotic tastes 
 of Morocco right here in town. Reserve your seat now for a night of unforg
 ettable flavors and fantastic company!
ATTACH;FMTTYPE=image/jpeg:https://www.arabamerica.com/wp-content/uploads/2
 025/07/Screenshot-2025-07-30-at-9.57.45-AM.png
LOCATION:Cellar 55\, 1351 East Broad Street\, Fuquay-Varina\, NC\, 27526-16
 80\, United States
GEO:35.594543;-78.775692
X-APPLE-STRUCTURED-LOCATION;VALUE=URI;X-ADDRESS=1351 East Broad Street\, Fu
 quay-Varina\, NC\, 27526-1680\, United States;X-APPLE-RADIUS=100;X-TITLE=C
 ellar 55:geo:35.594543,-78.775692
END:VEVENT
BEGIN:VTIMEZONE
TZID:America/Detroit
X-LIC-LOCATION:America/Detroit
BEGIN:DAYLIGHT
DTSTART:20250309T030000
TZOFFSETFROM:-0500
TZOFFSETTO:-0400
TZNAME:EDT
END:DAYLIGHT
END:VTIMEZONE
END:VCALENDAR