BEGIN:VCALENDAR
VERSION:2.0
PRODID:-//wp-events-plugin.com//7.2.3.1//EN
TZID:America/Detroit
X-WR-TIMEZONE:America/Detroit
BEGIN:VEVENT
UID:32299@arabamerica.com
DTSTART;TZID=America/Detroit:20240223T180000
DTEND;TZID=America/Detroit:20240223T213000
DTSTAMP:20240220T205535Z
URL:https://www.arabamerica.com/events/a-night-of-compassion-for-gaza/
SUMMARY:A Night of Compassion for Gaza
DESCRIPTION:\n\nA Night of Compassion for Gaza\n\nThis in-person event is d
 edicated to showing our support and solidarity with our brothers and siste
 rs in Gaza. Listen to esteemed speakers\, enjoy a delicious meal and give 
 from the bounty Allah has blessed you with. Together our voices can be hea
 rd\n\nFor any questions or sponsorship information please contact Sr Share
 efa (716) 616-0060
ATTACH;FMTTYPE=image/jpeg:https://www.arabamerica.com/wp-content/uploads/2
 024/02/Screen-Shot-2024-02-20-at-8.57.04-AM.png
CATEGORIES:Arab American,Community,culture
END:VEVENT
BEGIN:VTIMEZONE
TZID:America/Detroit
X-LIC-LOCATION:America/Detroit
BEGIN:STANDARD
DTSTART:20231105T010000
TZOFFSETFROM:-0400
TZOFFSETTO:-0500
TZNAME:EST
END:STANDARD
END:VTIMEZONE
END:VCALENDAR