BEGIN:VCALENDAR
VERSION:2.0
PRODID:-//wp-events-plugin.com//7.2.3.1//EN
TZID:America/Detroit
X-WR-TIMEZONE:America/Detroit
BEGIN:VEVENT
UID:35208@arabamerica.com
DTSTART;TZID=America/Los_Angeles:20251019T180000
DTEND;TZID=America/Los_Angeles:20251019T210000
DTSTAMP:20251008T035211Z
URL:https://www.arabamerica.com/events/a-night-of-timeless-melodies-los-an
 geles-arab-orchestra-live/
SUMMARY:A Night of Timeless Melodies: Los Angeles Arab Orchestra Live
DESCRIPTION:BURBANK\, CA\n\n\nLos Angeles Arab Orchestra: A Night of Timele
 ss Melodies\nJoin the Los Angeles Arab Orchestra—a collective of 40+ m
 usicians and singers—for an unforgettable evening celebrating the Golde
 n Age of Arabic music. This is more than a concert\; it is a powerful cult
 ural experience and a journey through the melodies that defined generation
 s.\n\nImmerse yourself in the rich sounds of the Middle East\, featuring t
 he full orchestra performing beloved classics from icons like Umm Kulthum
 \, Fairuz\, Abdel Halim Hafez\, and Wadih El Safi.\n\nA Highlight You Can'
 t Miss: This year features special guest performances by Singer Rami Oth
 mane and Violonist Yasmine Azaiez\, as well as lead performances from in
 credible artists all over the diaspora\, led by Master Conductor Hassan M
 inawi.\n\nWhether you grew up listening to the greats or are discovering t
 he magic of Arabic music for the first time\, this performance offers a po
 werful\, vibrant\, and unique soundscape right here in Los Angeles.\n\nEve
 nt Details:\n\n 	Date: Sunday\, October 19\, 2025\n 	Doors: 6:00 PM | S
 how Starts: 6:30 PM\n 	Location: Burbank High School\, Burbank\, CA\n\nR
 eserve your seats now. Early Bird tickets are sold out. General Seating 
 Low\n\n\n\n\n\n\nFor many of us in the SoCal\, a performance by a full\, d
 edicated Arab orchestra is a rare and cherished experience. This event i
 s more than a concert\; it's been a response to our shared cultural cravin
 g—a chance to reconnect with the depth\, passion\, and sophistication of
  the Golden Age of Arabic music right here in Southern California.\n\nThi
 s is your invitation to come together.\n\nThe Los Angeles Arab Orchestra i
 s a registered 501(c)(3) non-profit organization. Your attendance directl
 y supports the growth and continuity of this vital art form in California.
 \n\nBy securing your ticket\, you are:\n\n 	Sustaining a Non-Profit: Your
  purchase helps fund our operating costs and starting educational programs
 .\n 	Preserving Heritage: Keeping the timeless melodies of a generation a
 live for future generations on an American stage.\n 	Empowering Artists: 
 Directly supporting our collective of 40+ professional musicians and singe
 rs dedicated to this craft.\n\nJoin us in making this art flourish. We lo
 ok forward to sharing this unique\, powerful evening with you on October 1
 9th.\n\n\n\n\n\n\n\n
ATTACH;FMTTYPE=image/jpeg:https://www.arabamerica.com/wp-content/uploads/2
 025/10/Screen-Shot-2025-10-07-at-11.51.18-PM.png
LOCATION:Burbank High School\, 902 North 3rd Street\, Burbank\, California 
 \, 91502\, United States
GEO:34.188148;-118.314414
X-APPLE-STRUCTURED-LOCATION;VALUE=URI;X-ADDRESS=902 North 3rd Street\, Burb
 ank\, California \, 91502\, United States;X-APPLE-RADIUS=100;X-TITLE=Burba
 nk High School:geo:34.188148,-118.314414
END:VEVENT
BEGIN:VTIMEZONE
TZID:America/Los_Angeles
X-LIC-LOCATION:America/Los_Angeles
BEGIN:DAYLIGHT
DTSTART:20250309T030000
TZOFFSETFROM:-0800
TZOFFSETTO:-0700
TZNAME:PDT
END:DAYLIGHT
END:VTIMEZONE
END:VCALENDAR