BEGIN:VCALENDAR
VERSION:2.0
PRODID:-//wp-events-plugin.com//7.2.3.1//EN
TZID:America/Detroit
X-WR-TIMEZONE:America/Detroit
BEGIN:VEVENT
UID:34311@arabamerica.com
DTSTART;TZID=America/Detroit:20250504T140000
DTEND;TZID=America/Detroit:20250504T160000
DTSTAMP:20250419T041722Z
URL:https://www.arabamerica.com/events/a-palestinian-dessert-making-experi
 ence-the-art-of-knafeh-2/
SUMMARY:A Palestinian Dessert Making Experience: The Art of Knafeh
DESCRIPTION:ARLINGTON\, VA\n\nWhat you'll learn in this dessert class:\n\nD
 iscover the rich flavors and techniques of crafting traditional Palestinia
 n knafeh in this experience.\n\nJoin Chef Farah on a nostalgic culinary jo
 urney to master the art of making Knafeh\, inspired by her childhood visit
 s to the famed Habiba shop in Amman\, Jordan\, where each bite transported
  her to their ancestral home of Nablus. In this class\, we’ll explore th
 e traditional techniques and authentic ingredients that make Nabulsi Knafe
 h so special\, passed down through generations and cherished as a symbol o
 f Palestinian heritage.\n\nIn this hands-on workshop\, you'll learn to cre
 ate the beloved Palestinian dessert\, Knafeh\, using traditional technique
 s and authentic ingredients.
ATTACH;FMTTYPE=image/jpeg:https://www.arabamerica.com/wp-content/uploads/2
 025/04/Screenshot-2025-04-18-212337.jpg
CATEGORIES:Arab cooking class
LOCATION:Olive Lebanese Eatery Express\, 1100 North Glebe Rd #Suite GR-3\, 
 Arlington\, VA\, 22201\, United States
GEO:38.883444;-77.118044
X-APPLE-STRUCTURED-LOCATION;VALUE=URI;X-ADDRESS=1100 North Glebe Rd #Suite 
 GR-3\, Arlington\, VA\, 22201\, United States;X-APPLE-RADIUS=100;X-TITLE=O
 live Lebanese Eatery Express:geo:38.883444,-77.118044
END:VEVENT
BEGIN:VTIMEZONE
TZID:America/Detroit
X-LIC-LOCATION:America/Detroit
BEGIN:DAYLIGHT
DTSTART:20250309T030000
TZOFFSETFROM:-0500
TZOFFSETTO:-0400
TZNAME:EDT
END:DAYLIGHT
END:VTIMEZONE
END:VCALENDAR