BEGIN:VCALENDAR
VERSION:2.0
PRODID:-//wp-events-plugin.com//7.2.3.1//EN
TZID:America/Detroit
X-WR-TIMEZONE:America/Detroit
BEGIN:VEVENT
UID:34994@arabamerica.com
DTSTART;TZID=America/Detroit:20250829T201500
DTEND;TZID=America/Detroit:20250829T213000
DTSTAMP:20250813T035052Z
URL:https://www.arabamerica.com/events/a-special-night-for-gaza/
SUMMARY:A SPECIAL NIGHT FOR GAZA
DESCRIPTION:JOHNS CREEK\, GA\n\n&#x1f31f\; A SPECIAL NIGHT FOR GAZA - UNITE
 D AS ONE &#x1f31f\;\n\n&#x1f54c\;Hosted by\n\nMASJID JAFAR &amp\; United H
 ands Relief (UHR)\n\nJoin us for a powerful evening of unity\, compassion\
 , and purpose as we come together in support of our brothers and sisters i
 n Gaza. This is more than a fundraiser — it’s a chance to stand in sol
 idarity\, share hope\, and make a lasting difference.\n\n&#x1f5d3\;&#xfe0f
 \; Date: Friday\, August 29\, 2025\n\n&#x1f561\; Time: 8:15 PM – 9:30 PM
 \n\n&#x1f4cd\; Location: 11005 Jones Bridge Rd\, Unit 112\, Johns Creek\, 
 GA 30022\n\n&nbsp\;\n\n&#x1f3a4\; Special Speakers:\n\n• Imam Dr Ahman S
 hqeirat\n\n• Suleiman Alghanim\n\n(UHR Founder &amp\; CEO)\n\n• Imam A
 rshad Anwar\n\n• Imam Kareem Rooshandler\n\n&#x1f4f8\; Hear stories from
  the ground\, view powerful footage from Gaza\, and learn how your support
  is making a real impact through UHR’s efforts.\n\n&#x1f932\;&#x1f3fd\; 
 After Maghrib Salah\, stay for a complimentary pizza dinner as we come tog
 ether in fellowship and support.\n\n&#x1f49a\; FREE ENTRY – Limited Seat
 ing!\n\n&#x1f39f\;&#xfe0f\; RSVP now by scanning the QR code to reserve yo
 ur seat!\n\nLet’s make this a night to remember — for Gaza\, for human
 ity\, for hope.\n\n&#x1f4f2\; Questions? Text Ezreta Nikocevic at 248-378-
 6791\n\nBe part of the change. Reserve your spot now and bring a friend. C
 an not attend? Not a proble! Make donation and join UHR WhatsApp group to 
 learn about our efforts on the ground of Gaza: https://chat.whatsapp.com/I
 iXqNuKCpt0IMN1UFqg4p2?mode=ac_t
ATTACH;FMTTYPE=image/jpeg:https://www.arabamerica.com/wp-content/uploads/2
 025/08/Screen-Shot-2025-08-12-at-11.48.09-PM-1.png
LOCATION:MASJID JAFAR\, 11005 Jones Bridge Road #suite 112\, Johns Creek\, 
 Georgia \, 30022\, United States
GEO:34.049507;-84.220587
X-APPLE-STRUCTURED-LOCATION;VALUE=URI;X-ADDRESS=11005 Jones Bridge Road #su
 ite 112\, Johns Creek\, Georgia \, 30022\, United States;X-APPLE-RADIUS=10
 0;X-TITLE=MASJID JAFAR:geo:34.049507,-84.220587
END:VEVENT
BEGIN:VTIMEZONE
TZID:America/Detroit
X-LIC-LOCATION:America/Detroit
BEGIN:DAYLIGHT
DTSTART:20250309T030000
TZOFFSETFROM:-0500
TZOFFSETTO:-0400
TZNAME:EDT
END:DAYLIGHT
END:VTIMEZONE
END:VCALENDAR