BEGIN:VCALENDAR
VERSION:2.0
PRODID:-//wp-events-plugin.com//7.2.3.1//EN
TZID:America/Detroit
X-WR-TIMEZONE:America/Detroit
BEGIN:VEVENT
UID:34273@arabamerica.com
DTSTART;TZID=America/Detroit:20250512T180000
DTEND;TZID=America/Detroit:20250512T200000
DTSTAMP:20250407T055010Z
URL:https://www.arabamerica.com/events/a-state-of-passion-film-screening-d
 iscussion/
SUMMARY:A State of Passion Film Screening & Discussion
DESCRIPTION:SAN FRANCISCO\, CA\n\n\n\nUNDER 16 WITH PARENT OR LEGAL GUARDIA
 N\n\n\n\n\n\n\n\n\n\n\n\n\n\n\nJoin us at the Roxie Theater for an evening
  screening of A State of Passion Film &amp\; Discussion.\n\nAfter 43 days 
 under constant bombardment in Gaza’s Al-Shifa and Al-Ahli hospitals\, Br
 itish-Palestinian reconstructive surgeon\, Dr. Ghassan Abu Sittah\, bore w
 itness to a genocide unfolding from the perspective of a physician. He wit
 nessed unfathomable horrors from lacerated bodies\, to amputations without
  anesthetics\, orphaned children with no surviving family\, and deliberate
  targeting of medics and hospital facilities. This critical documentary hi
 ghlights the urgent need to resist the normalization of targeting healthca
 re workers and infrastructure in conflict and the role that healthcare wor
 kers must play to stop genocides. A post-screening discussion will include
  a discussion about how healthcare workers have been targeted and silenced
  across the West as a tactic to accelerate the annihilation of Palestinian
  people and the ongoing plight to advocate for the right to health.\n\n\n\
 n\n\n\n\n\n\n\n\n\n\n\n\n\n\n
ATTACH;FMTTYPE=image/jpeg:https://www.arabamerica.com/wp-content/uploads/2
 025/04/Screenshot-2025-04-07-at-1.57.47 AM.png
LOCATION:Roxie Theater\,  3117 16th Street \, San Francisco\, California\, 
 94103\, United States
GEO:37.7647103;-122.42240809999998
X-APPLE-STRUCTURED-LOCATION;VALUE=URI;X-ADDRESS= 3117 16th Street \, San Fr
 ancisco\, California\, 94103\, United States;X-APPLE-RADIUS=100;X-TITLE=Ro
 xie Theater:geo:37.7647103,-122.42240809999998
END:VEVENT
BEGIN:VTIMEZONE
TZID:America/Detroit
X-LIC-LOCATION:America/Detroit
BEGIN:DAYLIGHT
DTSTART:20250309T030000
TZOFFSETFROM:-0500
TZOFFSETTO:-0400
TZNAME:EDT
END:DAYLIGHT
END:VTIMEZONE
END:VCALENDAR