BEGIN:VCALENDAR
VERSION:2.0
PRODID:-//wp-events-plugin.com//7.2.3.1//EN
TZID:America/Detroit
X-WR-TIMEZONE:America/Detroit
BEGIN:VEVENT
UID:34676@arabamerica.com
DTSTART;TZID=America/Detroit:20250626T150000
DTEND;TZID=America/Detroit:20250731T210000
DTSTAMP:20250702T003837Z
URL:https://www.arabamerica.com/events/a-stitch-in-time-the-palestinian-hi
 story-tapestry-at-dar-al-hurriya/
SUMMARY:A Stitch in Time: The Palestinian History Tapestry at Dar Al Hurriy
 a
DESCRIPTION:WASHINGTON DC
ATTACH;FMTTYPE=image/jpeg:https://www.arabamerica.com/wp-content/uploads/2
 025/07/unnamed.jpeg
LOCATION:650 Pennsylvania Ave.\, 650 Pennsylvania Avenue Southeast Suite 50
 \, Washington\, DC\, 20003\, United States
GEO:38.885379;-76.996932
X-APPLE-STRUCTURED-LOCATION;VALUE=URI;X-ADDRESS=650 Pennsylvania Avenue Sou
 theast Suite 50\, Washington\, DC\, 20003\, United States;X-APPLE-RADIUS=1
 00;X-TITLE=650 Pennsylvania Ave.:geo:38.885379,-76.996932
END:VEVENT
BEGIN:VTIMEZONE
TZID:America/Detroit
X-LIC-LOCATION:America/Detroit
BEGIN:DAYLIGHT
DTSTART:20250309T030000
TZOFFSETFROM:-0500
TZOFFSETTO:-0400
TZNAME:EDT
END:DAYLIGHT
END:VTIMEZONE
END:VCALENDAR