BEGIN:VCALENDAR
VERSION:2.0
PRODID:-//wp-events-plugin.com//7.2.3.1//EN
TZID:America/Detroit
X-WR-TIMEZONE:America/Detroit
BEGIN:VEVENT
UID:35176@arabamerica.com
DTSTART;TZID=America/Detroit:20251028T180000
DTEND;TZID=America/Detroit:20251028T200000
DTSTAMP:20250930T184200Z
URL:https://www.arabamerica.com/events/a-taste-of-morocco/
SUMMARY:A Taste of Morocco
DESCRIPTION:WINSTON-SALEM\, NC\n\n\n\nEnjoy complex Moroccan flavors from a
 ppetizer to dessert. Chef Dianne demonstrates how ingredients like cumin\,
  turmeric\, ginger and cinnamon\, fresh herbs\, orange and eggplant can el
 evate a meal into a Moroccan experience!\n\nMenu includes:\n\nTomato\, Oli
 ve and Feta Salad\n\nMoroccan Flavored Chicken\n\nGreen Beans &amp\; Carro
 ts\n\nOrange Scented Couscous with Toasted Almonds\n\nCaponata (Moroccan S
 tyle)\n\nLike buying a theater ticket\, seats in a class are non-transfera
 ble (to another date) &amp\; non-refundable unless Southern Home &amp\; Ki
 tchen cancels the class.
ATTACH;FMTTYPE=image/jpeg:https://www.arabamerica.com/wp-content/uploads/2
 025/09/ma.jpeg
LOCATION:Southern Home & Kitchen\, 200 S. Stratford Road\, Winston-Salem\, 
 NC\, 27103\, United States
GEO:36.0934499;-80.28075079999996
X-APPLE-STRUCTURED-LOCATION;VALUE=URI;X-ADDRESS=200 S. Stratford Road\, Win
 ston-Salem\, NC\, 27103\, United States;X-APPLE-RADIUS=100;X-TITLE=Souther
 n Home & Kitchen:geo:36.0934499,-80.28075079999996
END:VEVENT
BEGIN:VTIMEZONE
TZID:America/Detroit
X-LIC-LOCATION:America/Detroit
BEGIN:DAYLIGHT
DTSTART:20250309T030000
TZOFFSETFROM:-0500
TZOFFSETTO:-0400
TZNAME:EDT
END:DAYLIGHT
END:VTIMEZONE
END:VCALENDAR