BEGIN:VCALENDAR
VERSION:2.0
PRODID:-//wp-events-plugin.com//7.2.3.1//EN
TZID:America/Detroit
X-WR-TIMEZONE:America/Detroit
BEGIN:VEVENT
UID:35863@arabamerica.com
DTSTART;TZID=America/Detroit:20260327T190000
DTEND;TZID=America/Detroit:20260327T210000
DTSTAMP:20260215T161439Z
URL:https://www.arabamerica.com/events/a-tribute-to-mohamed-abdel-wahab-wi
 th-marwa-morgan/
SUMMARY:A Tribute to Mohamed Abdel Wahab With Marwa Morgan
DESCRIPTION:Vocalist Marwa Morgan will present a program of songs paying 
 tribute to the great Egyptian composer Mohamed Abdel Wahab\, who’s songs
  largely defined the sound of twentieth-century Arabic Music. The program 
 will feature songs sung by Abdel Wahab himself as well as songs he compose
 d for other singers. Marwa will be accompanied by an ensemble of musicians
  lead by Ameer Armaly.
ATTACH;FMTTYPE=image/jpeg:https://www.arabamerica.com/wp-content/uploads/2
 026/02/Marwa-Morgan-Photo.jpeg
CATEGORIES:Arab Culture,Arab Music,Live Music Night,Music
LOCATION:Leonard Nimoy Thalia Theatre\, 2537 Broadway\, New York\, New York
  \, 10025\, United States
GEO:40.7939625;-73.9728154
X-APPLE-STRUCTURED-LOCATION;VALUE=URI;X-ADDRESS=2537 Broadway\, New York\, 
 New York \, 10025\, United States;X-APPLE-RADIUS=100;X-TITLE=Leonard Nimoy
  Thalia Theatre:geo:40.7939625,-73.9728154
END:VEVENT
BEGIN:VTIMEZONE
TZID:America/Detroit
X-LIC-LOCATION:America/Detroit
BEGIN:DAYLIGHT
DTSTART:20260308T030000
TZOFFSETFROM:-0500
TZOFFSETTO:-0400
TZNAME:EDT
END:DAYLIGHT
END:VTIMEZONE
END:VCALENDAR