BEGIN:VCALENDAR
VERSION:2.0
PRODID:-//wp-events-plugin.com//7.2.3.1//EN
TZID:America/Detroit
X-WR-TIMEZONE:America/Detroit
BEGIN:VEVENT
UID:35158@arabamerica.com
DTSTART;TZID=America/Los_Angeles:20250927T183000
DTEND;TZID=America/Los_Angeles:20250927T223000
DTSTAMP:20250924T191423Z
URL:https://www.arabamerica.com/events/a-vigil-for-palestine-outdoor-scree
 ning-of-where-olive-trees-weep/
SUMMARY:A VIGIL FOR PALESTINE - Outdoor Screening of Where Olive Trees Weep
DESCRIPTION:LOS ANGLES\, CA\n\n&#x1f349\; I want to invite you to a communi
 ty vigil for Palestine and outdoor movie screening.\n\nThe Palestinian str
 uggle is not distant. It is interconnected with every colonized land\, eve
 ry community that has been displaced\, every lineage that has carried trau
 ma and resilience across generations. For those of us committed to ancestr
 al remembrance and holistic healing\, the call to stand with Palestine is 
 inseparable from our call to heal.\n\nThis vigil creates a container where
  grief becomes medicine\, poetry and song become tools of resilience\, and
  where community can rise into solidarity. By holding this event in Los An
 geles\, we honor our interconnected struggles and declare: justice is a co
 llective practice. Healing is resistance. Silence is not an option.\n\nI a
 m from Ecuador\, a land also colonized\, where extraction and erasure have
  tried to silence our original ways of knowing. I carry in my body the mem
 ory of the mountains and the wound of its invasions.\n\nOn this special ev
 ening we will be screening:\n\nWhere Olive Trees Weep\n\nA searing documen
 tary that brings forward the voices of Palestinians living under occupatio
 n. It weaves together stories of survival\, ancestral memory\, and the uny
 ielding fight for dignity and land. It is a call to move from awareness in
 to action.\n\n------------------------------------------------------------
 ------------------------------------\n\nWe are so honored to be joined by 
 Dr. Jaiya John and potentially local activist and panelists from the filmm
 aking team. Together\, we will weave story\, discussion\, poetry\, and son
 g into a living act of solidarity.\n\nDr. Jaiya John is an internationall
 y recognized freedom worker\, poet\, author\, speaker\, and educator\, who
 se own life began on the high desert of ancestral Pueblo and Anasazi lands
  in New Mexico. He is the founder of Soul Water Rising\, a global "rehuma
 nizing mission" dedicated to dismantling oppression through storytelling\,
  healing\, and social transformation\, and the visionary behind The Gathe
 ring\, a movement reviving traditional community rituals for collective li
 beration. With a Ph.D. in social psychology and a career as a professor at
  Howard University\, Dr. John’s work spans academia\, literary healing\,
  and grassroots outreach\; he is the author of landmark books such as Dau
 ghter Drink This Water\, Freedom: Medicine Words for Your Brave Revolutio
 n\, and We Birth Freedom at Dawn\, and the creator of the podcast I Will
  Read for You: The Voice and Writings of Jaiya John. Through Soul Water Ri
 sing\, he has donated thousands of books and created scholarships\, suppor
 ting vulnerable and displaced youth while giving voice and medicine to tho
 se working toward justice and belonging
ATTACH;FMTTYPE=image/jpeg:https://www.arabamerica.com/wp-content/uploads/2
 025/09/Screen-Shot-2025-09-24-at-3.08.58-PM.png
LOCATION:Thrive Health & Wellness Collective\, 2905 Stanford Avenue \, Los 
 Angeles\, California \, 90292\, United States
GEO:33.989505;-118.448949
X-APPLE-STRUCTURED-LOCATION;VALUE=URI;X-ADDRESS=2905 Stanford Avenue \, Los
  Angeles\, California \, 90292\, United States;X-APPLE-RADIUS=100;X-TITLE=
 Thrive Health & Wellness Collective:geo:33.989505,-118.448949
END:VEVENT
BEGIN:VTIMEZONE
TZID:America/Los_Angeles
X-LIC-LOCATION:America/Los_Angeles
BEGIN:DAYLIGHT
DTSTART:20250309T030000
TZOFFSETFROM:-0800
TZOFFSETTO:-0700
TZNAME:PDT
END:DAYLIGHT
END:VTIMEZONE
END:VCALENDAR