BEGIN:VCALENDAR
VERSION:2.0
PRODID:-//wp-events-plugin.com//7.2.3.1//EN
TZID:America/Detroit
X-WR-TIMEZONE:America/Detroit
BEGIN:VEVENT
UID:35307@arabamerica.com
DTSTART;TZID=America/Detroit:20251117T133000
DTEND;TZID=America/Detroit:20251117T150000
DTSTAMP:20251028T003930Z
URL:https://www.arabamerica.com/events/a-z-world-food-tunisian-pumpkin-dip
 /
SUMMARY:A-Z World Food: Tunisian Pumpkin Dip
DESCRIPTION:BRISTOL\, CT\n\n\n\n\n\nA simple and festive recipe for the hol
 idays! learn how to make Ajlouke et potiron (pumpkin dip)\, a classic Tuni
 sian spread that’s versatile for snacks\, appetizers\, or as a side dish
 . Flavored with harissa (see recipe)\, North Africa’s hot chili sauce\, 
 this bright pumpkin dip jazzes up snacking. Serve with pita bread\, cracke
 rs\, or crudités.\n\nOur programs are free\, but please register.\n\nRSVP
  at the library\, visit bristollib.com\, call: (860) 584-7787 x 3. 18+\n\n
 \n\n\n\n\n\n\n\n
ATTACH;FMTTYPE=image/jpeg:https://www.arabamerica.com/wp-content/uploads/2
 025/10/https-cdn.evbuc_.com-images-1144502383-186253581083-1-original.2025
 1004-125334.jpeg
LOCATION:Bristol Public Library\, 5 High Street\, Bristol\, CT\, 06010\, Un
 ited States
GEO:41.673761;-72.942045
X-APPLE-STRUCTURED-LOCATION;VALUE=URI;X-ADDRESS=5 High Street\, Bristol\, C
 T\, 06010\, United States;X-APPLE-RADIUS=100;X-TITLE=Bristol Public Librar
 y:geo:41.673761,-72.942045
END:VEVENT
BEGIN:VTIMEZONE
TZID:America/Detroit
X-LIC-LOCATION:America/Detroit
BEGIN:STANDARD
DTSTART:20251102T010000
TZOFFSETFROM:-0400
TZOFFSETTO:-0500
TZNAME:EST
END:STANDARD
END:VTIMEZONE
END:VCALENDAR