BEGIN:VCALENDAR
VERSION:2.0
PRODID:-//wp-events-plugin.com//7.2.3.1//EN
TZID:America/Detroit
X-WR-TIMEZONE:America/Detroit
BEGIN:VEVENT
UID:35679@arabamerica.com
DTSTART;TZID=America/Detroit:20260117T120000
DTEND;TZID=America/Detroit:20260117T230000
DTSTAMP:20260108T164635Z
URL:https://www.arabamerica.com/events/aaagw-yennayer-2026-exchange-day/
SUMMARY:AAAGW Yennayer 2026 Exchange Day
DESCRIPTION:The Algerian American Association of Greater Washington (AAAGW)
  warmly invites all guests and community members—Algerians\, friends\, a
 nd anyone interested in cultural exchange—to join us for this full-day c
 elebration.
ATTACH;FMTTYPE=image/jpeg:https://www.arabamerica.com/wp-content/uploads/2
 026/01/faf11d32-51d4-4d53-bb7e-5689071a1632.webp
CATEGORIES:Celebration,Celebration event,Dance,Virginia Events
LOCATION:3950 Fair Ridge Rd\, 3950 Fair Ridge Dr \, Fairfax\, VA\, 22033\, 
 United States
GEO:38.872719;-77.371143
X-APPLE-STRUCTURED-LOCATION;VALUE=URI;X-ADDRESS=3950 Fair Ridge Dr \, Fairf
 ax\, VA\, 22033\, United States;X-APPLE-RADIUS=100;X-TITLE=3950 Fair Ridge
  Rd:geo:38.872719,-77.371143
END:VEVENT
BEGIN:VTIMEZONE
TZID:America/Detroit
X-LIC-LOCATION:America/Detroit
BEGIN:STANDARD
DTSTART:20251102T010000
TZOFFSETFROM:-0400
TZOFFSETTO:-0500
TZNAME:EST
END:STANDARD
END:VTIMEZONE
END:VCALENDAR