BEGIN:VCALENDAR
VERSION:2.0
PRODID:-//wp-events-plugin.com//7.2.3.1//EN
TZID:America/Detroit
X-WR-TIMEZONE:America/Detroit
BEGIN:VEVENT
UID:35303@arabamerica.com
DTSTART;TZID=America/Detroit:20251205T183000
DTEND;TZID=America/Detroit:20251205T220000
DTSTAMP:20251023T051051Z
URL:https://www.arabamerica.com/events/aac-5th-annual-networking-mixer/
SUMMARY:AAC 5th ANNUAL NETWORKING MIXER
DESCRIPTION:Come join us at the AAC 5th Annual Networking Mixer for a night
  of connecting\, collaborating\, and fun!
ATTACH;FMTTYPE=image/jpeg:https://www.arabamerica.com/wp-content/uploads/2
 025/10/unnamed-4.png
CATEGORIES:Networking,Ohio,Professional,Professional
 Development,Professional Event
LOCATION:La Villa Conference & Banquet Center\, 11500 Brookpark Road\, Clev
 eland\, United States
GEO:41.420571;-81.768975
X-APPLE-STRUCTURED-LOCATION;VALUE=URI;X-ADDRESS=11500 Brookpark Road\, Clev
 eland\, United States;X-APPLE-RADIUS=100;X-TITLE=La Villa Conference & Ban
 quet Center:geo:41.420571,-81.768975
END:VEVENT
BEGIN:VTIMEZONE
TZID:America/Detroit
X-LIC-LOCATION:America/Detroit
BEGIN:STANDARD
DTSTART:20251102T010000
TZOFFSETFROM:-0400
TZOFFSETTO:-0500
TZNAME:EST
END:STANDARD
END:VTIMEZONE
END:VCALENDAR