BEGIN:VCALENDAR
VERSION:2.0
PRODID:-//wp-events-plugin.com//7.2.3.1//EN
TZID:America/Detroit
X-WR-TIMEZONE:America/Detroit
BEGIN:VEVENT
UID:36122@arabamerica.com
DTSTART;TZID=America/Detroit:20260424T180000
DTEND;TZID=America/Detroit:20260424T213000
DTSTAMP:20260401T003828Z
URL:https://www.arabamerica.com/events/aac-heritage-night-film-screening/
SUMMARY:AAC Heritage Night Film Screening
DESCRIPTION:&#x1f389\; Excitement is in the air! Get ready to be part of so
 mething extraordinary at Arab Americans of Cleveland's Arab American Heri
 tage Night Film Screening.\n\nWe are showing Lebanon's official selection 
 to the Academy Awards "Arze." A dramedy that tells an emotional yet uplift
 ing story starring Diamand Bou Abboud and Betty Taoutel.\n\nEvery registra
 tion to this event will bring us closer to achieving our mission. We are d
 onating a portion of the proceeds to the Lebanese Red Cross to support ong
 oing relief efforts in Lebanon. Together\, we can create a brighter\, more
  compassionate world for all.\n\nThank you for supporting our mission\, yo
 ur support is invaluable.\n\nProgram: \n\nDoors Open and Reception: 6:00 
 PM\n\nFilm Begins: 7:00 PM\n\nPost Film Networking: 8:30 PM
ATTACH;FMTTYPE=image/jpeg:https://www.arabamerica.com/wp-content/uploads/2
 026/03/a7e7cd91-e90b-4168-b307-29e4aaec36d0.webp
CATEGORIES:Community,culture
END:VEVENT
BEGIN:VTIMEZONE
TZID:America/Detroit
X-LIC-LOCATION:America/Detroit
BEGIN:DAYLIGHT
DTSTART:20260308T030000
TZOFFSETFROM:-0500
TZOFFSETTO:-0400
TZNAME:EDT
END:DAYLIGHT
END:VTIMEZONE
END:VCALENDAR