BEGIN:VCALENDAR
VERSION:2.0
PRODID:-//wp-events-plugin.com//7.2.3.1//EN
TZID:America/Detroit
X-WR-TIMEZONE:America/Detroit
BEGIN:VEVENT
UID:32217@arabamerica.com
DTSTART;TZID=America/Detroit:20240216T120000
DTEND;TZID=America/Detroit:20240216T160000
DTSTAMP:20240208T030359Z
URL:https://www.arabamerica.com/events/aahna-virtual-conference-advancing-
 arab-american-network-alliance/
SUMMARY:AAHNA Virtual Conference: Advancing Arab American Network Alliance!
DESCRIPTION:\n\n\nJoin us on February 16th\, 12-4pm EST\, for the 2024 AAH
 NA Virtual Conference: Advancing Arab American Network Alliance!\n\n\nAll 
 patients\, providers\, researchers\, and allies who identify as or work wi
 th Middle Eastern or North African (MENA) Americans are welcome!\n\n\nWe a
 re honored to be joined by Dr. Abdul El-Sayed for a keynote address\, fo
 llowed by presentations by the Project AAHNA study team.\n\n\nREGISTER 
 NOW (to receive the Zoom link): HTTP://TINYURL.COM/AAHNA2024\n\nCould you
  please include this in the upcoming AAF newsletter and on the website to 
 help spread the word?\n
ATTACH;FMTTYPE=image/jpeg:https://www.arabamerica.com/wp-content/uploads/2
 024/02/2024-AAHNA-Conference-Poster-pdf.jpg
CATEGORIES:Community,culture,Discussion
END:VEVENT
BEGIN:VTIMEZONE
TZID:America/Detroit
X-LIC-LOCATION:America/Detroit
BEGIN:STANDARD
DTSTART:20231105T010000
TZOFFSETFROM:-0400
TZOFFSETTO:-0500
TZNAME:EST
END:STANDARD
END:VTIMEZONE
END:VCALENDAR