BEGIN:VCALENDAR
VERSION:2.0
PRODID:-//wp-events-plugin.com//7.2.3.1//EN
TZID:America/Detroit
X-WR-TIMEZONE:America/Detroit
BEGIN:VEVENT
UID:34696@arabamerica.com
DTSTART;TZID=America/Detroit:20250723T180000
DTEND;TZID=America/Detroit:20250723T200000
DTSTAMP:20250702T212632Z
URL:https://www.arabamerica.com/events/aawbc-patio-party/
SUMMARY:AAWBC Patio Party
DESCRIPTION:DEARBORN\, MI\n\n\n\n\n\n\n\n\n\nPatio Party\n\nCome join us fo
 r a fun-filled evening at Malek Al-Kabob Dearborn! Our Patio Party is th
 e perfect way to kick back and enjoy delicious food and great company. Thi
 s in-person event will feature networking opportunities\, food and henna! 
 Don't miss out on the chance to mingle with like-minded individuals and ma
 ke new connections. Mark your calendars for this exciting gathering!\n\n\n
 \n\n\n\n\n\n\n\n\n\n\n\n\n\n&nbsp\;\n\n&nbsp\;
ATTACH;FMTTYPE=image/jpeg:https://www.arabamerica.com/wp-content/uploads/2
 025/07/Screen-Shot-2025-07-02-at-5.18.42-PM.png
LOCATION:Malek Al-Kabob Dearborn\, 22065 Michigan Avenue\, Dearborn\, Michi
 gan \, 48124\, United States
GEO:42.305704;-83.245218
X-APPLE-STRUCTURED-LOCATION;VALUE=URI;X-ADDRESS=22065 Michigan Avenue\, Dea
 rborn\, Michigan \, 48124\, United States;X-APPLE-RADIUS=100;X-TITLE=Malek
  Al-Kabob Dearborn:geo:42.305704,-83.245218
END:VEVENT
BEGIN:VTIMEZONE
TZID:America/Detroit
X-LIC-LOCATION:America/Detroit
BEGIN:DAYLIGHT
DTSTART:20250309T030000
TZOFFSETFROM:-0500
TZOFFSETTO:-0400
TZNAME:EDT
END:DAYLIGHT
END:VTIMEZONE
END:VCALENDAR