BEGIN:VCALENDAR
VERSION:2.0
PRODID:-//wp-events-plugin.com//7.2.3.1//EN
TZID:America/Detroit
X-WR-TIMEZONE:America/Detroit
BEGIN:VEVENT
UID:35668@arabamerica.com
DTSTART;TZID=America/Detroit:20260214T200000
DTEND;TZID=America/Detroit:20260214T213000
DTSTAMP:20260107T015248Z
URL:https://www.arabamerica.com/events/abdallah-jasims-marriage-unarranged
 -comedy-show/
SUMMARY:Abdallah Jasim’s Marriage Unarranged Comedy Show
DESCRIPTION:\nOverview\n\n\n\n\n\nMarriage Unarranged is a comedy show abou
 t being single\, Arab and in your 30s.\n\n\n\n\nThis Valentine’s Day Abd
 allah Jasim shares a brutally honest take on awkward setups\, failed relat
 ionships\, family pressure and the one that got away.\n\nIf you’re singl
 e\, dating\, married or just Arab…this is a night for you packed with co
 medy\, live music\, matchmaking\, DJ’s and Debka!\n\n**Your ticket also 
 includes entry to the official after party at Parklife\, located around th
 e corner from Littlefield at 636 Degraw Street\, starting at 10 PM and fea
 turing two of New York’s finest Arab DJs.**\n\n\n\n\n\n
ATTACH;FMTTYPE=image/jpeg:https://www.arabamerica.com/wp-content/uploads/2
 026/01/https___cdn.evbuc_.com_images_1173883727_24269976876_1_original.jpe
 g
LOCATION:littlefield\, 635 Sackett Street\, Brooklyn\, NY\, 11217\, United 
 States
GEO:40.678434;-73.983306
X-APPLE-STRUCTURED-LOCATION;VALUE=URI;X-ADDRESS=635 Sackett Street\, Brookl
 yn\, NY\, 11217\, United States;X-APPLE-RADIUS=100;X-TITLE=littlefield:geo
 :40.678434,-73.983306
END:VEVENT
BEGIN:VTIMEZONE
TZID:America/Detroit
X-LIC-LOCATION:America/Detroit
BEGIN:STANDARD
DTSTART:20251102T010000
TZOFFSETFROM:-0400
TZOFFSETTO:-0500
TZNAME:EST
END:STANDARD
END:VTIMEZONE
END:VCALENDAR