BEGIN:VCALENDAR
VERSION:2.0
PRODID:-//wp-events-plugin.com//7.2.3.1//EN
TZID:America/Detroit
X-WR-TIMEZONE:America/Detroit
BEGIN:VEVENT
UID:35870@arabamerica.com
DTSTART;TZID=America/New_York:20260226T173000
DTEND;TZID=America/New_York:20260226T213000
DTSTAMP:20260216T151238Z
URL:https://www.arabamerica.com/events/acgis-cvpa-present-ramadan-nights-f
 eaturing-parwaz-e-rooh/
SUMMARY:ACGIS & CVPA Present Ramadan Nights: Featuring Parwaz e Rooh.
DESCRIPTION:Overview\n\n\n\n\n\nJoin us for Ramadan Nights with a performan
 ce by international band Parwaz e Rooh—good vibes\, great stories\, and 
 Ramadan feels live!\n\n\n\n\n\nRamadan Nights\nPresented by The AbuSulayma
 n Center for Global Islamic Studies and the College of Visual and Performi
 ng Arts. Join us in person for an unforgettable evening featuring the tale
 nted Humayun Khan! Celebrate the spirit of Ramadan with great company\, in
 spiring stories\, and soulful performances. Don't miss out on this special
  night filled with warmth\, culture\, and community vibes. Bring your frie
 nds and family for a memorable experience!\n\n\n\n
ATTACH;FMTTYPE=image/jpeg:https://www.arabamerica.com/wp-content/uploads/2
 026/02/ACGIS.webp
LOCATION:Center for the Arts\, 4373 Mason Pond Drive\, Fairfax\, VA\, 22030
 \, United States
GEO:38.829446;-77.309378
X-APPLE-STRUCTURED-LOCATION;VALUE=URI;X-ADDRESS=4373 Mason Pond Drive\, Fai
 rfax\, VA\, 22030\, United States;X-APPLE-RADIUS=100;X-TITLE=Center for th
 e Arts:geo:38.829446,-77.309378
END:VEVENT
BEGIN:VTIMEZONE
TZID:America/New_York
X-LIC-LOCATION:America/New_York
BEGIN:STANDARD
DTSTART:20251102T010000
TZOFFSETFROM:-0400
TZOFFSETTO:-0500
TZNAME:EST
END:STANDARD
END:VTIMEZONE
END:VCALENDAR