BEGIN:VCALENDAR
VERSION:2.0
PRODID:-//wp-events-plugin.com//7.2.3.1//EN
TZID:America/Detroit
X-WR-TIMEZONE:America/Detroit
BEGIN:VEVENT
UID:35230@arabamerica.com
DTSTART;TZID=America/Detroit:20251016T173000
DTEND;TZID=America/Detroit:20251016T173000
DTSTAMP:20251013T223303Z
URL:https://www.arabamerica.com/events/adventures-in-international-dining-
 nadims-downtown-mediterranean-grill/
SUMMARY:Adventures in International Dining: Nadim's Downtown Mediterranean 
 Grill
DESCRIPTION:SPRINGFIELD\, MA\n\n\n\nJoin us for a culinary journey through 
 Lebanon's delicious cuisine at Nadim's Downtown Mediterranean Grill\n\n\n\
 n\nAdventures in International Dining: Nadim's Downtown Mediterranean Gril
 l\n\nJoin us for a culinary journey to Nadim's Downtown Mediterranean Gril
 l where you'll experience the flavors of Lebanon! The menu will include ca
 uliflower\, cheese roll-ups\, and the hummachos (hummus and chips like a L
 ebanese nachos)\, and falafel\, Fatoush salad\, three skewers -- chicken\,
  beef\, salmon--and rice pilaf. We will also hear from Chef Nadim Kashouh.
 \n\nThe cost includes the meal and tip. You will be able to purchase bever
 ages separately. This event is expected to fill up quickly. Please RSVP by
  Saturday\, October 11th. Don't miss out on this delicious opportunity!\n\
 n\n
ATTACH;FMTTYPE=image/jpeg:https://www.arabamerica.com/wp-content/uploads/2
 025/10/https-cdn.evbuc_.com-images-1140159823-18800590307-1-original.20250
 930-153902.jpeg
LOCATION:Nadim's Downtown Mediterranean Grill\, 1390 Main Street \, Springf
 ield\, MA\, 01103\, United States
GEO:42.102273;-72.590001
X-APPLE-STRUCTURED-LOCATION;VALUE=URI;X-ADDRESS=1390 Main Street \, Springf
 ield\, MA\, 01103\, United States;X-APPLE-RADIUS=100;X-TITLE=Nadim's Downt
 own Mediterranean Grill:geo:42.102273,-72.590001
END:VEVENT
BEGIN:VTIMEZONE
TZID:America/Detroit
X-LIC-LOCATION:America/Detroit
BEGIN:DAYLIGHT
DTSTART:20250309T030000
TZOFFSETFROM:-0500
TZOFFSETTO:-0400
TZNAME:EDT
END:DAYLIGHT
END:VTIMEZONE
END:VCALENDAR