BEGIN:VCALENDAR
VERSION:2.0
PRODID:-//wp-events-plugin.com//7.2.3.1//EN
TZID:America/Detroit
X-WR-TIMEZONE:America/Detroit
BEGIN:VEVENT
UID:33350@arabamerica.com
DTSTART;TZID=America/Detroit:20241016T160000
DTEND;TZID=America/Detroit:20241016T180000
DTSTAMP:20240814T205112Z
URL:https://www.arabamerica.com/events/african-literature-book-group-discu
 ssion-hisham-matarrs-my-friends-2/
SUMMARY:African Literature Book Group Discussion: Hisham Matarr's My Friend
 s
DESCRIPTION:The K-16 Education Outreach Program at the African Studies Cent
 er hosts an annual series of book group meetings wherein participants of a
 ll ages and backgrounds are invited to read and discuss engaging novels by
  African authors. Join this discussion of award-winning author Hisham Mata
 rr's My Friends to learn more about Lybian history and diasporic politics.
 \n\n&nbsp\;
END:VEVENT
BEGIN:VTIMEZONE
TZID:America/Detroit
X-LIC-LOCATION:America/Detroit
BEGIN:DAYLIGHT
DTSTART:20240310T030000
TZOFFSETFROM:-0500
TZOFFSETTO:-0400
TZNAME:EDT
END:DAYLIGHT
END:VTIMEZONE
END:VCALENDAR