BEGIN:VCALENDAR
VERSION:2.0
PRODID:-//wp-events-plugin.com//7.2.3.1//EN
TZID:America/Detroit
X-WR-TIMEZONE:America/Detroit
BEGIN:VEVENT
UID:36012@arabamerica.com
DTSTART;TZID=America/Detroit:20260508T210000
DTEND;TZID=America/Detroit:20260509T020000
DTSTAMP:20260311T012524Z
URL:https://www.arabamerica.com/events/afro-habibi-2/
SUMMARY:Afro Habibi
DESCRIPTION:Join us at thee Black &amp\; Arab dance party &#xfe0f\;&#x200d\
 ;&#xfe0f\;&#x200d\;&#xfe0f\;&#x200d\;&#xfe0f\;&#x200d\;in SF for Black/Bro
 wn queer and trans people!\n\n&nbsp\;\n\nAfro Habibi: Hip Hop &amp\; Arab 
 House Music Party\n\nCome party in the margins with LBXX and Subeaux playi
 ng hip hop &amp\; Arab house music at The Stud on Friday May 8th\, 2026.\n
 \nDoors open at 9:00pm. $10 Pre-sale\, $15 at door. 21+\n\n&nbsp\;
ATTACH;FMTTYPE=image/jpeg:https://www.arabamerica.com/wp-content/uploads/2
 026/03/image-35.webp
LOCATION:The Stud\, 1123 Folsom Street\, San Francisco \, CA\, 94103\, Unit
 ed States
GEO:37.776106;-122.408389
X-APPLE-STRUCTURED-LOCATION;VALUE=URI;X-ADDRESS=1123 Folsom Street\, San Fr
 ancisco \, CA\, 94103\, United States;X-APPLE-RADIUS=100;X-TITLE=The Stud:
 geo:37.776106,-122.408389
END:VEVENT
BEGIN:VTIMEZONE
TZID:America/Detroit
X-LIC-LOCATION:America/Detroit
BEGIN:DAYLIGHT
DTSTART:20260308T030000
TZOFFSETFROM:-0500
TZOFFSETTO:-0400
TZNAME:EDT
END:DAYLIGHT
END:VTIMEZONE
END:VCALENDAR