BEGIN:VCALENDAR
VERSION:2.0
PRODID:-//wp-events-plugin.com//7.2.3.1//EN
TZID:America/Detroit
X-WR-TIMEZONE:America/Detroit
BEGIN:VEVENT
UID:35181@arabamerica.com
DTSTART;TZID=America/Detroit:20251116T000000
DTEND;TZID=America/Detroit:20251119T000000
DTSTAMP:20251001T020647Z
URL:https://www.arabamerica.com/events/afrp-day-of-action-2025/
SUMMARY:AFRP Day of Action 2025
DESCRIPTION:WASHINGTON DC\,\n\n&nbsp\;\n\nJoin AFRP in DC Nov. 16-19 as the
 y advocate for Palestinian justice.\n
ATTACH;FMTTYPE=image/jpeg:https://www.arabamerica.com/wp-content/uploads/2
 025/09/9-22-3.webp
LOCATION:Washington DC\, Washington DC\, Washington \, DC\, United States
GEO:38.907192;-77.036871
X-APPLE-STRUCTURED-LOCATION;VALUE=URI;X-ADDRESS=Washington DC\, Washington 
 \, DC\, United States;X-APPLE-RADIUS=100;X-TITLE=Washington DC:geo:38.9071
 92,-77.036871
END:VEVENT
BEGIN:VTIMEZONE
TZID:America/Detroit
X-LIC-LOCATION:America/Detroit
BEGIN:STANDARD
DTSTART:20251102T010000
TZOFFSETFROM:-0400
TZOFFSETTO:-0500
TZNAME:EST
END:STANDARD
END:VTIMEZONE
END:VCALENDAR