BEGIN:VCALENDAR
VERSION:2.0
PRODID:-//wp-events-plugin.com//7.2.3.1//EN
TZID:America/Detroit
X-WR-TIMEZONE:America/Detroit
BEGIN:VEVENT
UID:33881@arabamerica.com
DTSTART;TZID=America/Detroit:20250106T123000
DTEND;TZID=America/Detroit:20250106T140000
DTSTAMP:20241230T004100Z
URL:https://www.arabamerica.com/events/afternoon-weekday-tea-time-at-teas-
 me-on-22nd-street/
SUMMARY:Afternoon Weekday Tea Time at Tea’s Me on 22nd Street
DESCRIPTION:Join us for a fun time with friends\, classmates\, teammates or
  colleagues from work for an out of office meeting over tea!\n\nOur Aftern
 oon Tea serves a maximum of 12 guests for $150 plus Eventbrite fees.\n\nAv
 ailable on Monday’s and Wednesday’s at Tea’s Me on 22nd Street in Fa
 ll Creek.\n\n1p -2p\n\nTea option choice of:\n\nHot: (3)- 4 cup Pots\n\n1 
 - Moroccan Mint - Green\n\n1 - Assam - Black\n\n1 - Champagne Raspberry - 
 White\n\nOR\n\nIced: (2) Pitchers\n\n1 - Champagne Raspberry\n\n1 - Morocc
 an Mint\n\n***\n\n12 Sandwiches cut in Tri-Angles (served in quarters per 
 sandwich)\n\n4 - Chicken Salad\n\n4 - Tomato Treat\n\n4 - Turkey &amp\; Mo
 zzarella\n\n***\n\n12 Chocolate Chip Cookies\n\nServes Maximum of 12 guest
 s ONLY\n\n** If a menu item is out of stock a replacement will be substitu
 ted**
ATTACH;FMTTYPE=image/jpeg:https://www.arabamerica.com/wp-content/uploads/2
 024/12/https-cdn.evbuc_.com-images-529563369-276002439971-1-original.20230
 605-185313.jpeg
LOCATION:Tea’s Me Cafe Indy\, 140 East 22nd Street #B \, Indianapolis\, I
 N\, 46202\, United States
GEO:39.797555;-86.154307
X-APPLE-STRUCTURED-LOCATION;VALUE=URI;X-ADDRESS=140 East 22nd Street #B \, 
 Indianapolis\, IN\, 46202\, United States;X-APPLE-RADIUS=100;X-TITLE=Tea
 ’s Me Cafe Indy:geo:39.797555,-86.154307
END:VEVENT
BEGIN:VTIMEZONE
TZID:America/Detroit
X-LIC-LOCATION:America/Detroit
BEGIN:STANDARD
DTSTART:20241103T010000
TZOFFSETFROM:-0400
TZOFFSETTO:-0500
TZNAME:EST
END:STANDARD
END:VTIMEZONE
END:VCALENDAR