BEGIN:VCALENDAR
VERSION:2.0
PRODID:-//wp-events-plugin.com//7.2.3.1//EN
TZID:America/Detroit
X-WR-TIMEZONE:America/Detroit
BEGIN:VEVENT
UID:35156@arabamerica.com
DTSTART;TZID=America/Los_Angeles:20250918T160000
DTEND;TZID=America/Los_Angeles:20250918T200000
DTSTAMP:20250924T190209Z
URL:https://www.arabamerica.com/events/ahimsa-for-palestine-yoga-retreat/
SUMMARY:Ahimsa for Palestine yoga retreat
DESCRIPTION:OJAI\, CA\n\n\n\nspend an afternoon practicing yoga in its vari
 ous forms as you focus on your drishti through heart opening practices and
  cleansing breathwork. Proceeds to benefit Heal Palestine which is rooted 
 in the strong belief that every child deserves the right to heal and thriv
 e.\n\n\n\n\n\n\nBeverages and light snacks will be provided\n\n\n
ATTACH;FMTTYPE=image/jpeg:https://www.arabamerica.com/wp-content/uploads/2
 025/09/Screen-Shot-2025-09-24-at-3.00.37-PM.png
LOCATION:Light and Space\, 915 East Ojai Avenue\, Ojai\, California \, 9302
 3\, United States
GEO:34.448203;-119.236761
X-APPLE-STRUCTURED-LOCATION;VALUE=URI;X-ADDRESS=915 East Ojai Avenue\, Ojai
 \, California \, 93023\, United States;X-APPLE-RADIUS=100;X-TITLE=Light an
 d Space:geo:34.448203,-119.236761
END:VEVENT
BEGIN:VTIMEZONE
TZID:America/Los_Angeles
X-LIC-LOCATION:America/Los_Angeles
BEGIN:DAYLIGHT
DTSTART:20250309T030000
TZOFFSETFROM:-0800
TZOFFSETTO:-0700
TZNAME:PDT
END:DAYLIGHT
END:VTIMEZONE
END:VCALENDAR