BEGIN:VCALENDAR
VERSION:2.0
PRODID:-//wp-events-plugin.com//7.2.3.1//EN
TZID:America/Detroit
X-WR-TIMEZONE:America/Detroit
BEGIN:VEVENT
UID:34424@arabamerica.com
DTSTART;TZID=America/Detroit:20250713T193000
DTEND;TZID=America/Detroit:20250713T210000
DTSTAMP:20250520T214503Z
URL:https://www.arabamerica.com/events/ahmed-ahmed-at-venturinos-comedy-cl
 ub/
SUMMARY:Ahmed Ahmed at Venturino's Comedy Club!
DESCRIPTION:\n\n\nAhmed Ahmed\, the Egyptian-American dynamo\, stands as a 
 true powerhouse in the entertainment industry\, captivating audiences with
  his diverse talents as an actor\, comedian\, producer\, and director. Hav
 ing brought you laughter as "Ahmed" on TBS' beloved comedy series\, Sulliv
 an &amp\; Son\, Ahmed is breaking barriers as the sole Arab-American actor
  portraying a non-stereotypical role in a comedy sitcom. Other TV and film
  credits include The Tonight Show\, Weeds\, Iron Man and You Don’t Mess 
 With The Zohan to name a few. Ahmed’s 2024 highlights include a sold out
  “Netflix Is A Joke Fest” show and the release of his new comedy speci
 al “It Only Takes One Of Us” with Comedy Dynamics. He’ll also be pre
 senting a screening of “Meet The Parents“ with Robert DeNiro and Ben S
 tiller at this years Tribeca Film Festival for the first annual DeNiro-Con
  honoring Robert’s DeNiro’s body of work over the past 80 years.\n\nWh
 ether receiving the inaugural Richard Pryor Award for Ethnic Comedy at the
  Edinburgh Comedy Festival in Scotland\, co-founding and participating in 
 the historic Axis of Evil Comedy Tour\, or making history with the first-e
 ver Middle Eastern stand-up comedy special on Comedy Central\, Ahmed's con
 tributions to the comedy world are only growing.\n\nHis comedic genius kno
 ws no bounds\, allowing him to tour nationally and internationally\, sprea
 ding joy and laughter wherever he goes. His on the fly crowd work is noth
 ing less than brilliant as he enjoys including audiences in his show often
 .\n\nIn the ever-evolving landscape of comedy\, Ahmed Ahmed remains a trai
 lblazer\, breaking down stereotypes and forging a path for diverse voices 
 in the entertainment industry. As a true ambassador of comedy\, he continu
 es to leave an indelible mark on the hearts and minds of audiences worldwi
 de.\n\n\n
ATTACH;FMTTYPE=image/jpeg:https://www.arabamerica.com/wp-content/uploads/2
 025/05/venturinos_comedy-show.png
LOCATION:Embassy Suites by Hilton Fort Myers Estero\, 10450 Corkscrew Commo
 ns Drive\, Estero\, FL\, 33928\, United States
GEO:26.433448;-81.781664
X-APPLE-STRUCTURED-LOCATION;VALUE=URI;X-ADDRESS=10450 Corkscrew Commons Dri
 ve\, Estero\, FL\, 33928\, United States;X-APPLE-RADIUS=100;X-TITLE=Embass
 y Suites by Hilton Fort Myers Estero:geo:26.433448,-81.781664
END:VEVENT
BEGIN:VTIMEZONE
TZID:America/Detroit
X-LIC-LOCATION:America/Detroit
BEGIN:DAYLIGHT
DTSTART:20250309T030000
TZOFFSETFROM:-0500
TZOFFSETTO:-0400
TZNAME:EDT
END:DAYLIGHT
END:VTIMEZONE
END:VCALENDAR