BEGIN:VCALENDAR
VERSION:2.0
PRODID:-//wp-events-plugin.com//7.2.3.1//EN
TZID:America/Detroit
X-WR-TIMEZONE:America/Detroit
BEGIN:VEVENT
UID:34877@arabamerica.com
DTSTART;TZID=America/Los_Angeles:20250827T193000
DTEND;TZID=America/Los_Angeles:20250827T210000
DTSTAMP:20250804T033844Z
URL:https://www.arabamerica.com/events/ahmed-al-kadri-6/
SUMMARY:AHMED AL-KADRI
DESCRIPTION:\n\n\nSAN DIEGO\, CA\n\nAges 21+\n\n\n\n\n\n\n\n\n\nAhmed Al-ka
 dri is a Yemeni-American comedian based in LA. He was previously working a
 s an Accountant.\n\nAhmed Al-kadri is a Yemeni-American comedian based in 
 LA. He was previously working as an Accountant but his immigrant parents a
 re forcing him to be a comedian. Ahmed has amassed a following on social m
 edia with over 850K followers. His content has been featured on Buzzfeed a
 nd Variety. You may also have seen him on the series David Diamondhands\, 
 OFTV\, and his YouTube special “Special Not Special”\n\nGet Tickers He
 re\n\n\n
ATTACH;FMTTYPE=image/jpeg:https://www.arabamerica.com/wp-content/uploads/2
 025/08/Screenshot-2025-08-03-at-11.35.37-PM.png
CATEGORIES:Arab American,Community,culture
LOCATION:Mic Drop Comedy\, 8878 Clairemont Mesa Boulevard \, San Diego\, CA
 \, 92123\, United States
GEO:32.832049;-117.137367
X-APPLE-STRUCTURED-LOCATION;VALUE=URI;X-ADDRESS=8878 Clairemont Mesa Boulev
 ard \, San Diego\, CA\, 92123\, United States;X-APPLE-RADIUS=100;X-TITLE=M
 ic Drop Comedy:geo:32.832049,-117.137367
END:VEVENT
BEGIN:VTIMEZONE
TZID:America/Los_Angeles
X-LIC-LOCATION:America/Los_Angeles
BEGIN:DAYLIGHT
DTSTART:20250309T030000
TZOFFSETFROM:-0800
TZOFFSETTO:-0700
TZNAME:PDT
END:DAYLIGHT
END:VTIMEZONE
END:VCALENDAR