BEGIN:VCALENDAR
VERSION:2.0
PRODID:-//wp-events-plugin.com//7.2.3.1//EN
TZID:America/Detroit
X-WR-TIMEZONE:America/Detroit
BEGIN:VEVENT
UID:34878@arabamerica.com
DTSTART;TZID=America/Denver:20250828T190000
DTEND;TZID=America/Denver:20250828T203000
DTSTAMP:20250804T035019Z
URL:https://www.arabamerica.com/events/ahmed-al-kadri-7/
SUMMARY:AHMED AL-KADRI
DESCRIPTION:CHANDLER\, AZ\n\n&nbsp\;\n\nAhmed Al-kadri is a Yemeni-American
  comedian based in LA. He was previously working as an Accountant.\n\nAhme
 d Al-kadri is a Yemeni-American comedian based in LA. He was previously wo
 rking as an Accountant but his immigrant parents are forcing him to be a c
 omedian. Ahmed has amassed a following on social media with over 850K foll
 owers. His content has been featured on Buzzfeed and Variety. You may also
  have seen him on the series David Diamondhands\, OFTV\, and his YouTube s
 pecial “Special Not Special”7:00\n\nGet Tickets Here
ATTACH;FMTTYPE=image/jpeg:https://www.arabamerica.com/wp-content/uploads/2
 025/08/Screenshot-2025-08-03-at-11.48.43-PM.png
CATEGORIES:Arab American,Community,culture
LOCATION:51 East Boston Street\, 51 East Boston Street\, Chandler\, AZ\,  8
 5225\, United States
GEO:33.301992;-111.840776
X-APPLE-STRUCTURED-LOCATION;VALUE=URI;X-ADDRESS=51 East Boston Street\, Cha
 ndler\, AZ\,  85225\, United States;X-APPLE-RADIUS=100;X-TITLE=51 East Bos
 ton Street:geo:33.301992,-111.840776
END:VEVENT
BEGIN:VTIMEZONE
TZID:America/Denver
X-LIC-LOCATION:America/Denver
BEGIN:DAYLIGHT
DTSTART:20250309T030000
TZOFFSETFROM:-0700
TZOFFSETTO:-0600
TZNAME:MDT
END:DAYLIGHT
END:VTIMEZONE
END:VCALENDAR