BEGIN:VCALENDAR
VERSION:2.0
PRODID:-//wp-events-plugin.com//7.2.3.1//EN
TZID:America/Detroit
X-WR-TIMEZONE:America/Detroit
BEGIN:VEVENT
UID:31602@arabamerica.com
DTSTART;TZID=America/Detroit:20231110T200000
DTEND;TZID=America/Detroit:20231110T213000
DTSTAMP:20230821T234050Z
URL:https://www.arabamerica.com/events/ahmed-al-kadri-headlining-room-808/
SUMMARY:Ahmed Al-Kadri headlining Room 808
DESCRIPTION:\n\n\nAhmed Al-kadri is a Yemeni-American comedian based in LA.
  He was previously working as an Accountant but his immigrant parents are 
 forcing him to be a comedian. Most of his material is mined from his upbri
 nging\, relatable situations\, and just some goofy fun. He started his car
 eer in 2016 taking an improv class at Dallas comedy House and has been hoo
 ked ever since. He has performed in numerous improv\, sketch\, and stand u
 p comedy shows at his old stomping grounds. With his improv troupe Sunglow
 \, headlined Dallas Comedy House on weekends and traveled across the count
 ry performing in various comedy festivals before moving to Los Angeles in 
 2018 to pursue a career in Stand Up. Over the last year\, Ahmed has gained
  a following on Tik Tok and IG with some of his most notable work such as 
 "Roommates with Anxiety" \, "F-Boi Rehab"\, or "Arab at an Indian Wedding"
  \; his was content featured on Buzzfeed and DankMemes. You may recognize 
 him on Fox's Love Connection or a "Honey" Commercial that airs on Hulu.\n\
 n\n\n\n\n
ATTACH;FMTTYPE=image/jpeg:https://www.arabamerica.com/wp-content/uploads/2
 023/08/Screen-Shot-2023-08-21-at-7.37.10-PM.png
CATEGORIES:#comedy,#comedy_show,Yemeni American
LOCATION:Room 808\, 808 Upshur Street Northwest \, Washington\, DC\, 20011\
 , United States
GEO:38.941742;-77.023825
X-APPLE-STRUCTURED-LOCATION;VALUE=URI;X-ADDRESS=808 Upshur Street Northwest
  \, Washington\, DC\, 20011\, United States;X-APPLE-RADIUS=100;X-TITLE=Roo
 m 808:geo:38.941742,-77.023825
END:VEVENT
BEGIN:VTIMEZONE
TZID:America/Detroit
X-LIC-LOCATION:America/Detroit
BEGIN:STANDARD
DTSTART:20231105T010000
TZOFFSETFROM:-0400
TZOFFSETTO:-0500
TZNAME:EST
END:STANDARD
END:VTIMEZONE
END:VCALENDAR