BEGIN:VCALENDAR
VERSION:2.0
PRODID:-//wp-events-plugin.com//7.2.3.1//EN
TZID:America/Detroit
X-WR-TIMEZONE:America/Detroit
BEGIN:VEVENT
UID:36113@arabamerica.com
DTSTART;TZID=America/Detroit:20260405T190000
DTEND;TZID=America/Detroit:20260405T203000
DTSTAMP:20260331T184930Z
URL:https://www.arabamerica.com/events/ahmed-al-kadri-live-at-the-den-come
 dy-club-2/
SUMMARY:Ahmed Al-kadri Live at The Den Comedy Club
DESCRIPTION:One night only! Join us at The Den Comedy for a stand up comedy
  night with headliner Ahmed Al-Kadri from Los Angeles\, California.\n\nOne
  night only! Join us at The Den Comedy for a comedy night with headliner A
 hmed Al-Kadri! Tickets are selling out so get yours before it’s too late
 !\n\n&nbsp\;\n\nAbout the headliner:\n\nAhmed Al-kadri is a Yemeni-America
 n comedian based in Los Angeles whose stand-up blends his cultural upbring
 ing\, everyday absurdities\, and straight-up goofy fun. His relatable and 
 high-energy style has taken him around the world—from America to Asia an
 d everywhere in between. You may have seen him on the series David Diamond
 hands\, OFTV\, or in his YouTube comedy special Special Not Special.\n\nQ:
  Can I come if I’m not Yemeni/Arab?\n\nA: Yes\, everyone is welcome and 
 people across all identities always enjoy the show! This is a show for any
 one that loves silly &amp\; slightly edgy humor\, comes from an immigrant 
 family\, and overall positive attitude and having fun!\n\nQ: Is this show 
 only about Yemen?\n\nA: Nope\, this show covers a wide range of topics fro
 m identity\, family\, culture\, observational humor\, immigrants and even 
 crowd work if the audience is feeling it! Being Yemeni-American is just th
 e lens I use to connect most things.\n\nQ: What’s this tour for?\n\nA: I
 ’m currently developing my next hour of comedy. These shows are a chance
  for me to workshop new material and sharpen the set to perfection. As an 
 audience member\, you’re helping me refine this hour\, which means you
 ’ll likely see bits that won't make the final filmed special!"
ATTACH;FMTTYPE=image/jpeg:https://www.arabamerica.com/wp-content/uploads/2
 026/03/image-48.webp
LOCATION:The Den Comedy Club\, 201 Woodard St\, Houston\, TX\, 77009\, Unit
 ed States
GEO:29.81104;-95.369426
X-APPLE-STRUCTURED-LOCATION;VALUE=URI;X-ADDRESS=201 Woodard St\, Houston\, 
 TX\, 77009\, United States;X-APPLE-RADIUS=100;X-TITLE=The Den Comedy Club:
 geo:29.81104,-95.369426
END:VEVENT
BEGIN:VTIMEZONE
TZID:America/Detroit
X-LIC-LOCATION:America/Detroit
BEGIN:DAYLIGHT
DTSTART:20260308T030000
TZOFFSETFROM:-0500
TZOFFSETTO:-0400
TZNAME:EDT
END:DAYLIGHT
END:VTIMEZONE
END:VCALENDAR