BEGIN:VCALENDAR
VERSION:2.0
PRODID:-//wp-events-plugin.com//7.2.3.1//EN
TZID:America/Detroit
X-WR-TIMEZONE:America/Detroit
BEGIN:VEVENT
UID:35339@arabamerica.com
DTSTART;TZID=America/Chicago:20251116T090000
DTEND;TZID=America/Chicago:20251117T030000
DTSTAMP:20251029T060621Z
URL:https://www.arabamerica.com/events/ahmed-sheba-at-vibes-bar-lounge/
SUMMARY:Ahmed Sheba at Vibes Bar & Lounge
DESCRIPTION:NASHVILLE\, TENNESSEE\n\nGet ready for an unforgettable Arabic 
 Night with Ahmed Sheeba at Vibes Bar &amp\; Lounge on Sunday\, Nov 16! Nas
 hville\, don’t miss out!\n\n\n\n\nGet ready\, Nashville! &#x1f3b6\; Arab
 ic Night is taking over Vibes Bar &amp\; Lounge with the legendary Ahmed S
 heeba live on Sunday\, Nov 16! Doors open at 8PM\, and the energy builds u
 ntil Sheeba hits the stage at 12AM for an unforgettable performance. &#x1f
 3a4\;&#x1f525\; Don’t miss the hottest Arabic night in the city — musi
 c\, vibes\, and memories you’ll never forget!\n\n\n
ATTACH;FMTTYPE=image/jpeg:https://www.arabamerica.com/wp-content/uploads/2
 025/10/Screen-Shot-2025-10-29-at-2.05.59-AM.png
LOCATION:114 28th Ave N\, 114 28th Avenue North\, Nashville\, TENNESSEE\, 3
 7203\, United States
GEO:36.146168;-86.812787
X-APPLE-STRUCTURED-LOCATION;VALUE=URI;X-ADDRESS=114 28th Avenue North\, Nas
 hville\, TENNESSEE\, 37203\, United States;X-APPLE-RADIUS=100;X-TITLE=114 
 28th Ave N:geo:36.146168,-86.812787
END:VEVENT
BEGIN:VTIMEZONE
TZID:America/Chicago
X-LIC-LOCATION:America/Chicago
BEGIN:STANDARD
DTSTART:20251102T010000
TZOFFSETFROM:-0500
TZOFFSETTO:-0600
TZNAME:CST
END:STANDARD
END:VTIMEZONE
END:VCALENDAR