BEGIN:VCALENDAR
VERSION:2.0
PRODID:-//wp-events-plugin.com//7.2.3.1//EN
TZID:America/Detroit
X-WR-TIMEZONE:America/Detroit
BEGIN:VEVENT
UID:35005@arabamerica.com
DTSTART;TZID=America/Detroit:20250918T170000
DTEND;TZID=America/Detroit:20250918T200000
DTSTAMP:20250819T161241Z
URL:https://www.arabamerica.com/events/ai-first-for-people-empowering-arab
 -american-health/
SUMMARY:AI First for People: Empowering Arab American Health
DESCRIPTION:DEARBORN HEIGHTS\, MI\n\n\n\nAI First for People: Empowering Ar
 ab American Health\n\nExperience the future of culturally responsive healt
 hcare technology as Velatura launches its groundbreaking "AI First for Peo
 ple" initiative.\n\nWe're unveiling the first multilingual Arabic-English 
 healthcare AI system built on the UAE's Technology Innovation Institute's 
 advanced Falcon Large Language Model—custom-trained to deliver authentic
  Arabic-speaking experiences that go far beyond translation.\n\nWhat You'l
 l Experience:\n\n 	Live demonstrations of breakthrough health AI\n 	Intera
 ctive showcases of the AskTeli AI chatbot\n 	Real-world applications for c
 onsent management and patient advocacy\n\nThis isn't just a product launch
 —it's the establishment of the Dearborn-Detroit corridor as a national h
 ub for healthcare AI innovation\, serving the needs of over 200\,000 Arabi
 c speakers while creating a model for culturally responsive technology nat
 ionwide.\n\nWhether you're a healthcare professional\, technology leader\,
  or community advocate\, join us for this event that will transform how we
  approach healthcare equity through artificial intelligence.\n\nWho Should
  Attend:\n\n 	Arabic speakers (any dialect)\n 	Family members who translat
 e for relatives\n 	Healthcare workers serving Arabic-speaking patients\n 	
 Anyone curious about community-focused healthcare technology\n
ATTACH;FMTTYPE=image/jpeg:https://www.arabamerica.com/wp-content/uploads/2
 025/08/aiii.jpeg
LOCATION:Caroline Kennedy Library of Dearborn Heights\, 24590 George St\, D
 earborn Heights\, MI\, 48127\, United States
GEO:42.344605;-83.282709
X-APPLE-STRUCTURED-LOCATION;VALUE=URI;X-ADDRESS=24590 George St\, Dearborn 
 Heights\, MI\, 48127\, United States;X-APPLE-RADIUS=100;X-TITLE=Caroline K
 ennedy Library of Dearborn Heights:geo:42.344605,-83.282709
END:VEVENT
BEGIN:VTIMEZONE
TZID:America/Detroit
X-LIC-LOCATION:America/Detroit
BEGIN:DAYLIGHT
DTSTART:20250309T030000
TZOFFSETFROM:-0500
TZOFFSETTO:-0400
TZNAME:EDT
END:DAYLIGHT
END:VTIMEZONE
END:VCALENDAR