BEGIN:VCALENDAR
VERSION:2.0
PRODID:-//wp-events-plugin.com//7.2.3.1//EN
TZID:America/Detroit
X-WR-TIMEZONE:America/Detroit
BEGIN:VEVENT
UID:31591@arabamerica.com
DTSTART;TZID=America/Detroit:20230917T110000
DTEND;TZID=America/Detroit:20230917T190000
DTSTAMP:20230820T171456Z
URL:https://www.arabamerica.com/events/al-awdas-14th-annual-palestine-picn
 ic-day/
SUMMARY:Al-Awda's 14th Annual Palestine Picnic Day
DESCRIPTION:\n\nAl-Awda's 14th Annual Palestine Picnic Day\n\nCome join us 
 for a day filled with fun and solidarity at the Al-Awda's 14th Annual Pal
 estine Picnic Day! This exciting event will take place at El Dorado East 
 Regional Park - Golden Grove\, East Spring Street\, Long Beach\, CA\, USA.
 \n\nGet ready for an unforgettable day where you can enjoy delicious food\
 , live music\, and engaging activities. Connect with fellow supporters of 
 Palestine and learn more about the rich Palestinian culture and history.\n
 \nBring your family and friends along to experience the vibrant atmosphere
  and show your support for justice and freedom. Let's come together to cel
 ebrate unity and spread awareness about the Palestinian cause.\n\nDon't mi
 ss out on this incredible event! Mark your calendars and join us at the A
 l-Awda's 14th Annual Palestine Picnic Day for a day filled with joy\, com
 munity\, and solidarity.
ATTACH;FMTTYPE=image/jpeg:https://www.arabamerica.com/wp-content/uploads/2
 023/08/https___cdn.evbuc_.com_images_577866959_1721197891813_1_original.jp
 eg
CATEGORIES:#arabic,Arab Ameircan Event,Arab
 American,Community,culture,Food
LOCATION:El Dorado East Regional Park - Golden Grove\, El Dorado East Regio
 nal Park - Golden Grove\, East Spring Street\, Long Beach\, Long Beach\, C
 A\, 90815\, United States
GEO:33.810909;-118.085439
X-APPLE-STRUCTURED-LOCATION;VALUE=URI;X-ADDRESS=El Dorado East Regional Par
 k - Golden Grove\, East Spring Street\, Long Beach\, Long Beach\, CA\, 908
 15\, United States;X-APPLE-RADIUS=100;X-TITLE=El Dorado East Regional Park
  - Golden Grove:geo:33.810909,-118.085439
END:VEVENT
BEGIN:VTIMEZONE
TZID:America/Detroit
X-LIC-LOCATION:America/Detroit
BEGIN:DAYLIGHT
DTSTART:20230312T030000
TZOFFSETFROM:-0500
TZOFFSETTO:-0400
TZNAME:EDT
END:DAYLIGHT
END:VTIMEZONE
END:VCALENDAR