BEGIN:VCALENDAR
VERSION:2.0
PRODID:-//wp-events-plugin.com//7.2.3.1//EN
TZID:America/Detroit
X-WR-TIMEZONE:America/Detroit
BEGIN:VEVENT
UID:33552@arabamerica.com
DTSTART;TZID=America/Detroit:20241026T190000
DTEND;TZID=America/Detroit:20241026T210000
DTSTAMP:20240923T172021Z
URL:https://www.arabamerica.com/events/al-firdaus-ensemble-concert/
SUMMARY:Al Firdaus Ensemble Concert
DESCRIPTION:Lanham\, MD\n\nAl Firdaus Ensemble is a Sufi musical group base
 d in Granada\, Spain. Founded in 2012 by the English singer Ali Keeler\, t
 he ensemble consists of musicians from England\, Spain\, Morocco and Venez
 uela.\n\nThe name of the ensemble is inspired by the Persian word "Firdaus
 "\, the Arabic name for the highest garden in paradise from an Islamic per
 spective.\n\nThe ensemble follows a combination of different musical style
 s\, such as western classical sounds\, Celtic music and flamenco\, as well
  as new arrangements of numerous pieces from traditional Islamic Sufi musi
 c\, which originate from Arabic\, Andalusian and Turkish sources. The lyri
 cs are mostly in Arabic and inspired by the poetry of the well-known Sufis
  of Al-Andalus as well as from the Arab world such as Ibn Arabi and Al-Shu
 shtari. In addition\, its repertoire consists of musical adaptations of po
 ems in old Spanish (called Aljamiado)\, which the Moriscos wrote down usin
 g Arabic script. The ensemble uses a variety of instruments\, a combinatio
 n of Persian\, Arabic and Turkish (e.g. Oud\, Daf\, Darbuka\, Riq\, Ney lo
 ngitudinal flute) and western classical instruments (e.g. violin\, cello) 
 as well the flamenco guitar. The ensemble consists of a number of singers\
 , some of whom are soloists and others who sing in choirs.\n\nOpen to ever
 yone regardless of faith or background! Enjoy the beautiful Diyanet Center
  and its cafe before the concert.\n\nSaturday\, October 26 · 7 - 9pm EDT
ATTACH;FMTTYPE=image/jpeg:https://www.arabamerica.com/wp-content/uploads/2
 024/09/https___cdn.evbuc_.com_images_851228609_284118110763_1_original.jpe
 g
LOCATION:Diyanet Center of America\, 9610 Good Luck Rd\, Lanham\, Maryland\
 , 20706\, United States
GEO:38.9826015;-76.84402539999996
X-APPLE-STRUCTURED-LOCATION;VALUE=URI;X-ADDRESS=9610 Good Luck Rd\, Lanham\
 , Maryland\, 20706\, United States;X-APPLE-RADIUS=100;X-TITLE=Diyanet Cent
 er of America:geo:38.9826015,-76.84402539999996
END:VEVENT
BEGIN:VTIMEZONE
TZID:America/Detroit
X-LIC-LOCATION:America/Detroit
BEGIN:DAYLIGHT
DTSTART:20240310T030000
TZOFFSETFROM:-0500
TZOFFSETTO:-0400
TZNAME:EDT
END:DAYLIGHT
END:VTIMEZONE
END:VCALENDAR