BEGIN:VCALENDAR
VERSION:2.0
PRODID:-//wp-events-plugin.com//7.2.3.1//EN
TZID:America/Detroit
X-WR-TIMEZONE:America/Detroit
BEGIN:VEVENT
UID:34010@arabamerica.com
DTSTART;TZID=America/Detroit:20250201T110000
DTEND;TZID=America/Detroit:20250201T233000
DTSTAMP:20250122T160530Z
URL:https://www.arabamerica.com/events/algerian-american-community-of-grea
 ter-washington-presents-the-2025-amazigh-festivities/
SUMMARY:Algerian American Community of Greater Washington Presents: The 202
 5 Amazigh Festivities
DESCRIPTION:Falls Church\, VA\n\n\n\n&nbsp\;\n\n
ATTACH;FMTTYPE=image/jpeg:https://www.arabamerica.com/wp-content/uploads/2
 025/01/download.webp
LOCATION:Crescendo Studios\, 8101 a US-29\, Falls Church\, VA\, United Stat
 es
GEO:38.874258;-77.223503
X-APPLE-STRUCTURED-LOCATION;VALUE=URI;X-ADDRESS=8101 a US-29\, Falls Church
 \, VA\, United States;X-APPLE-RADIUS=100;X-TITLE=Crescendo Studios:geo:38.
 874258,-77.223503
END:VEVENT
BEGIN:VTIMEZONE
TZID:America/Detroit
X-LIC-LOCATION:America/Detroit
BEGIN:STANDARD
DTSTART:20241103T010000
TZOFFSETFROM:-0400
TZOFFSETTO:-0500
TZNAME:EST
END:STANDARD
END:VTIMEZONE
END:VCALENDAR