BEGIN:VCALENDAR
VERSION:2.0
PRODID:-//wp-events-plugin.com//7.2.3.1//EN
TZID:America/Detroit
X-WR-TIMEZONE:America/Detroit
BEGIN:VEVENT
UID:35348@arabamerica.com
DTSTART;TZID=America/Detroit:20251107T190000
DTEND;TZID=America/Detroit:20251108T190000
DTSTAMP:20251103T232443Z
URL:https://www.arabamerica.com/events/ali-sultan-dry-bar-late-show-dont-t
 ell-comedy-comedy-central/
SUMMARY:Ali Sultan! (Dry Bar\, Late Show\, Don't Tell Comedy\, Comedy Centr
 al)
DESCRIPTION:Ali became the first Yemeni-Ethiopian American to make a stand-
 up television network debut on The Late Show with Stephen Colbert.
ATTACH;FMTTYPE=image/jpeg:https://www.arabamerica.com/wp-content/uploads/2
 025/11/https___cdn.evbuc_.com_images_1142848663_240915346634_1_original-1.
 jpg
CATEGORIES:#comedy_club,#comedy_show
LOCATION:Hashtag Comedy Club\, 1253 North High Street\, Columbus\, Ohio\, 4
 3201\, United States
GEO:39.987843;-83.005895
X-APPLE-STRUCTURED-LOCATION;VALUE=URI;X-ADDRESS=1253 North High Street\, Co
 lumbus\, Ohio\, 43201\, United States;X-APPLE-RADIUS=100;X-TITLE=Hashtag C
 omedy Club:geo:39.987843,-83.005895
END:VEVENT
BEGIN:VTIMEZONE
TZID:America/Detroit
X-LIC-LOCATION:America/Detroit
BEGIN:STANDARD
DTSTART:20251102T010000
TZOFFSETFROM:-0400
TZOFFSETTO:-0500
TZNAME:EST
END:STANDARD
END:VTIMEZONE
END:VCALENDAR