BEGIN:VCALENDAR
VERSION:2.0
PRODID:-//wp-events-plugin.com//7.2.3.1//EN
TZID:America/Detroit
X-WR-TIMEZONE:America/Detroit
BEGIN:VEVENT
UID:36237@arabamerica.com
DTSTART;TZID=America/Detroit:20260425T160000
DTEND;TZID=America/Detroit:20260425T160000
DTSTAMP:20260422T021259Z
URL:https://www.arabamerica.com/events/alif-institute-presents-usa-adam-wa
 -mishmish-team-live/
SUMMARY:Alif Institute Presents: USA Adam wa Mishmish team LIVE!
DESCRIPTION:ATLANTA\, GA\nIf you are new to this wildly popular animated ch
 ildren’s program\, Adam is a curious and energetic two-year-old who love
 s to run\, explore\, and discover the world around him. Each night before 
 bed\, he hugs his favorite toy\, Mishmish. In his dreams\, Mishmish magica
 lly comes to life and takes Adam on imaginative adventures where they begi
 n their Arabic learning journey\, exploring the Arabic alphabet\, jungle a
 nimals\, shapes\, sounds\, and much more through music\, storytelling\, an
 d play.\nDon’t miss this interactive performance filled with songs\, sto
 rytelling\, and playful Arabic learning that children and families can enj
 oy together.\nThis joyful program invites young audiences to sing\, move\,
  laugh\, and discover the beauty of the Arabic language in a lively and en
 gaging way.
ATTACH;FMTTYPE=image/jpeg:https://www.arabamerica.com/wp-content/uploads/2
 026/04/Screen-Shot-2026-04-21-at-21.48.49.png
LOCATION:Alif Institute\, 3288 Marjan Drive\, Atlanta\, GA\, 30340\, United
  States
GEO:33.884737;-84.264566
X-APPLE-STRUCTURED-LOCATION;VALUE=URI;X-ADDRESS=3288 Marjan Drive\, Atlanta
 \, GA\, 30340\, United States;X-APPLE-RADIUS=100;X-TITLE=Alif Institute:ge
 o:33.884737,-84.264566
END:VEVENT
BEGIN:VTIMEZONE
TZID:America/Detroit
X-LIC-LOCATION:America/Detroit
BEGIN:DAYLIGHT
DTSTART:20260308T030000
TZOFFSETFROM:-0500
TZOFFSETTO:-0400
TZNAME:EDT
END:DAYLIGHT
END:VTIMEZONE
END:VCALENDAR