BEGIN:VCALENDAR
VERSION:2.0
PRODID:-//wp-events-plugin.com//7.2.3.1//EN
TZID:America/Detroit
X-WR-TIMEZONE:America/Detroit
BEGIN:VEVENT
UID:34624@arabamerica.com
DTSTART;TZID=America/Detroit:20250622T130000
DTEND;TZID=America/Detroit:20250622T150000
DTSTAMP:20250617T233009Z
URL:https://www.arabamerica.com/events/all-about-brunch-mediterranean-insp
 ired/
SUMMARY:All About Brunch: Mediterranean Inspired
DESCRIPTION:ARLINGTON\, VA\n\n&nbsp\;\n\nExplore the intricate spices and a
 romatic herbs as you craft Moroccan Baked Eggs and Sausage\, a savory deli
 ght marrying tradition and innovation. Dive into the Mediterranean with Ba
 ked Cod infused with zesty lemon and garlic. Then\, indulge in the sweet h
 armony of Seeded Blueberry &amp\; Banana Muffins\, adding a wholesome touc
 h to your culinary adventure.\n\nEach member of the family must register.\
 n\n&nbsp\;\n\nMenu:\n\n• Moroccan Baked Eggs and Sausage\n\n• Baked Co
 d w/ Lemon &amp\; Garlic\n\n• Seeded Blueberry &amp\; Banana Muffins\n\n
 &nbsp\;\n\n*Price is per person*\n\n&nbsp\;\n\nYour purchase includes:\n\n
 • Recipes\, which will be emailed at the end of class\n\n• Live step-b
 y-step cooking instruction\n\n&nbsp\;\n\nClasses are approximately 90 minu
 tes – 2 hours\n\nPrice is per person\, and unfortunately\, Sawyer is lim
 ited in its ability to register multiple adults for a single class. So if 
 you'd like to register another adult for this class\, you must sign them u
 p as your child. Simply choose "ADD CHILD” and enter your guests name an
 d a birthday. This will allow you to register another participant. Price i
 s per person\, so it will add the additional cost for the seat. Or you can
  have your guest(s) create an account and register themselves separately.\
 n\nWe apologize for the inconvenience. However\, be sure to indicate any a
 llergies for yourself or your guest(s) when you signup. If you have any is
 sues\, please email us at info@cookologyonline.com or call us at (703) 433
 -1909 press 1.\n\n&nbsp\;\n\nMust be 21+ to drink alcohol.\n\n&nbsp\;\n\nA
 LTERNATIVES: Non-alcoholic drink options available. Vegetarian\, non-dairy
  and gluten-free substitutions available for every class. Please make us a
 ware of any accommodations we need to make on your behalf at registration 
 check-out.\n\n&nbsp\;\n\nParking in Ballston Quarter parking lot is recomm
 ended. Park on level 4 or 5\, then proceed to Mall level 3.\n\n&nbsp\;\n\n
 https://cookologyonline.com/terms-conditions/\n\nGet Tickets Here
ATTACH;FMTTYPE=image/jpeg:https://www.arabamerica.com/wp-content/uploads/2
 025/06/Screenshot-2025-06-17-at-7.31.54-PM.png
CATEGORIES:Arab,Arab American,Community,culture,Food
LOCATION:Cookology Culinary School\, 4238 Wilson Boulevard \, Arlington\, V
 A \, 22203\, United States
GEO:38.87886;-77.110682
X-APPLE-STRUCTURED-LOCATION;VALUE=URI;X-ADDRESS=4238 Wilson Boulevard \, Ar
 lington\, VA \, 22203\, United States;X-APPLE-RADIUS=100;X-TITLE=Cookology
  Culinary School:geo:38.87886,-77.110682
END:VEVENT
BEGIN:VTIMEZONE
TZID:America/Detroit
X-LIC-LOCATION:America/Detroit
BEGIN:DAYLIGHT
DTSTART:20250309T030000
TZOFFSETFROM:-0500
TZOFFSETTO:-0400
TZNAME:EDT
END:DAYLIGHT
END:VTIMEZONE
END:VCALENDAR